BEGIN:VCALENDAR
VERSION:2.0
PRODID:-//ChamberMaster//Event Calendar 2.0//EN
METHOD:PUBLISH
X-PUBLISHED-TTL:P3D
REFRESH-INTERVAL:P3D
CALSCALE:GREGORIAN
BEGIN:VEVENT
DTSTART:20200912T140000Z
DTEND:20200913T210000Z
X-MICROSOFT-CDO-ALLDAYEVENT:FALSE
SUMMARY:DuBois Farms Apple Picking
DESCRIPTION:FREE ADMISSION! Join us' at DuBois Farms\, voted Best Pick-Your-Own in the Hudson Valley! We'll be offering pick-your-own Honey Crisp\, Gala\, and Fuji apples\, Concord grapes\, tomatoes\, and assorted vegetables. Take a tractor-pulled wagon ride. Children can enjoy play-time in Tiny Town and a visit with the farm animals. Enjoy a barbequed lunch\, along with craft beer\, wine\, and hard cider\, and visit our farm market\, offering a great variety of local farm products\, including our award-winning apple cider donuts!
X-ALT-DESC;FMTTYPE=text/html:FREE ADMISSION! Join us&#39\; at DuBois Farms\, voted Best Pick-Your-Own in the Hudson Valley! We&#39\;ll be offering pick-your-own Honey Crisp\, Gala\, and Fuji apples\, Concord grapes\, tomatoes\, and assorted vegetables. Take a tractor-pulled wagon ride. Children can enjoy play-time in Tiny Town and a visit with the farm animals. Enjoy a barbequed lunch\, along with craft beer\, wine\, and hard cider\, and visit our farm market\, offering a great variety of local farm products\, including our award-winning apple cider donuts!
LOCATION:DuBois Farms 209 Perkinsville Road Highland NY
UID:e.2770.10484462
SEQUENCE:3
DTSTAMP:20260422T001929Z
URL:https://business.dcrcoc.org/events/details/dubois-farms-apple-picking-10484462
END:VEVENT

END:VCALENDAR
