BEGIN:VCALENDAR
VERSION:2.0
PRODID:-//ChamberMaster//Event Calendar 2.0//EN
METHOD:PUBLISH
X-PUBLISHED-TTL:P3D
REFRESH-INTERVAL:P3D
CALSCALE:GREGORIAN
BEGIN:VEVENT
DTSTART:20171126T030000Z
DTEND:20171126T210000Z
X-MICROSOFT-CDO-ALLDAYEVENT:FALSE
SUMMARY:Dutchess Community College Foundation 46th Annual Holiday Craft Fair
DESCRIPTION:The 46th Annual Holiday Craft Fair will be held on November 25-26\, 2017\, from 10:00 a.m. to 4:00 p.m in Falcon and Drumlin Halls on the Dutchess Community College campus. Each year\, DCC hosts a Craft Fair with more than 100 artists on the weekend following Thanksgiving. The Fair has become a much-anticipated event as it allows people to get a head start on their holiday shopping by purchasing one-of-a-kind gifts for friends and family. Invited participants include some of the favorite artists from our previous craft fairs\, along with new artists. The juried fair features works from artists who hand-craft their own items. Some of the pieces are considered fine art. Additionally\, there are many specialty food vendors. It is a perfect way to spend the holiday weekend. The DCC Foundation Annual Craft Fair gives you the opportunity to find items that you can't find anywhere else. There always is something for everyone. All proceeds go to providing deserving students with scholarships.
X-ALT-DESC;FMTTYPE=text/html:The 46th Annual Holiday Craft Fair will be held on November 25-26\, 2017\, from 10:00 a.m. to 4:00 p.m in Falcon and Drumlin Halls on the Dutchess Community College campus. Each year\, DCC hosts a Craft Fair with more than 100 artists on the weekend following Thanksgiving. The Fair has become a much-anticipated event as it allows people to get a head start on their holiday shopping by purchasing one-of-a-kind gifts for friends and family. Invited participants include some of the favorite artists from our previous craft fairs\, along with new artists. The juried fair features works from artists who hand-craft their own items. Some of the pieces are considered fine art. Additionally\, there are many specialty food vendors. It is a perfect way to spend the holiday weekend. The DCC Foundation Annual Craft Fair gives you the opportunity to find items that you can&rsquo\;t find anywhere else. There always is something for everyone. All proceeds go to providing deserving students with scholarships.
LOCATION:Dutchess Community College Falcon Hall and Drumlin Hall 53 Pendell Rd\, Poughkeepsie\, NY
UID:e.2770.10475957
SEQUENCE:3
DTSTAMP:20260426T020903Z
URL:https://business.dcrcoc.org/events/details/dutchess-community-college-foundation-46th-annual-holiday-craft-fair-10475957
END:VEVENT

END:VCALENDAR
