BEGIN:VCALENDAR
VERSION:2.0
PRODID:-//ChamberMaster//Event Calendar 2.0//EN
METHOD:PUBLISH
X-PUBLISHED-TTL:P3D
REFRESH-INTERVAL:P3D
CALSCALE:GREGORIAN
BEGIN:VEVENT
DTSTART:20181023T121500Z
DTEND:20181023T193000Z
X-MICROSOFT-CDO-ALLDAYEVENT:FALSE
SUMMARY:Dutchess County Workplace Wellness Summit
DESCRIPTION:The Workplace Wellness Summit provides a comprehensive day of education\, information\, and inspiration to all participants who wish to provide low-cost worksite wellness programs in their business\, school or organization.\n\nDuring the morning of the event\, participants are invited to an open networking breakfast to learn about available resources in their community to help improve the well-being of their employees. In this session\, the participants have a chance to network with a variety of resources from health providers\, local gyms\, fitness studios\, community-based organizations\, and more.\n\nFollowing the breakfast\, the event kicks off with a variety of speakers regarding the health of the workforce\, the importance of workplace wellness\, and a workshop on how to develop a workplace wellness committee. The event also highlights several local success stories from businesses who were able to implement low-cost wellness programs at their worksite.\n\nThe afternoon continues with an energetic speed networking session with FREE\, local worksite wellness programs that can assist local businesses and organizations in creating a culture of health. The speed networking session provides a valuable small-group setting for participants to learn about what each local program provides on-site for workplace wellness and how a partnership with their organization could help improve the health of their employees.\n\nAt the conclusion of the event\, participants are given the opportunity to indicate which of the FREE\, local worksite wellness programs they would like to follow-up with.\n\nAt the conclusion of the event\, participants are given the opportunity to indicate which of the FREE\, local worksite wellness programs they would like to follow-up with.\n\nJoin us to learn how you can create a culture of health in your workplace!\n\nRegister for free at: https://dutchessworkplacewellness.eventbrite.com
X-ALT-DESC;FMTTYPE=text/html:The Workplace Wellness Summit provides a comprehensive day of education\, information\, and inspiration to all participants who wish to provide low-cost worksite wellness programs in their business\, school or organization.<br />\nDuring the morning of the event\, participants are invited to an open networking breakfast to learn about available resources in their community to help improve the well-being of their employees. In this session\, the participants have a chance to network with a variety of resources from health providers\, local gyms\, fitness studios\, community-based organizations\, and more.<br />\nFollowing the breakfast\, the event kicks off with a variety of speakers regarding the health of the workforce\, the importance of workplace wellness\, and a workshop on how to develop a workplace wellness committee. The event also highlights several local success stories from businesses who were able to implement low-cost wellness programs at their worksite.<br />\nThe afternoon continues with an energetic speed networking session with FREE\, local worksite wellness programs that can assist local businesses and organizations in creating a culture of health. The speed networking session provides a valuable small-group setting for participants to learn about what each local program provides on-site for workplace wellness and how a partnership with their organization could help improve the health of their employees.<br />\nAt the conclusion of the event\, participants are given the opportunity to indicate which of the FREE\, local worksite wellness programs they would like to follow-up with.<br />\nAt the conclusion of the event\, participants are given the opportunity to indicate which of the FREE\, local worksite wellness programs they would like to follow-up with.<br />\nJoin us to learn how you can create a culture of health in your workplace!<br />\nRegister for free at: https://dutchessworkplacewellness.eventbrite.com<br />\n&nbsp\;
LOCATION:Family Partnership Center\, Cafeteria 28 N. Hamilton Drive Poughkeepsie\, NY 12601
UID:e.2770.10479449
SEQUENCE:3
DTSTAMP:20260425T114808Z
URL:https://business.dcrcoc.org/events/details/dutchess-county-workplace-wellness-summit-10479449
END:VEVENT

END:VCALENDAR
