BEGIN:VCALENDAR
VERSION:2.0
PRODID:-//ChamberMaster//Event Calendar 2.0//EN
METHOD:PUBLISH
X-PUBLISHED-TTL:P3D
REFRESH-INTERVAL:P3D
CALSCALE:GREGORIAN
BEGIN:VEVENT
DTSTART;VALUE=DATE:20190720
DTEND;VALUE=DATE:20190721
TRANSP:TRANSPARENT
X-MICROSOFT-CDO-ALLDAYEVENT:TRUE
SUMMARY:Dutchess Dragon Boat and river Festival
DESCRIPTION:Habitat for Humanity of Dutchess County is honored and excited to host the 2019 Dragon Boat Race & Festival\, on Saturday\, July 20th\, 2019\, at the Hudson River Rowing Association\, in Poughkeepsie\, NY. It promises to be an extraordinary day of exhilarating dragon boat races\, good food\, music\, games\, and fun alongside our beautiful Hudson River. If you've been a part of past Dragon Boat races\, we hope to see you back again. If this is your first time\, WELCOME! This website will tell you everything you need to know to become a dragon boat paddler!
X-ALT-DESC;FMTTYPE=text/html:Habitat for Humanity of Dutchess County is honored and excited to host the 2019 Dragon Boat Race &amp\; Festival\, on Saturday\, July 20th\, 2019\, at the Hudson River Rowing Association\, in Poughkeepsie\, NY. It promises to be an extraordinary day of exhilarating dragon boat races\, good food\, music\, games\, and fun alongside our beautiful Hudson River. If you&rsquo\;ve been a part of past Dragon Boat races\, we hope to see you back again. If this is your first time\, WELCOME! This website will tell you everything you need to know to become a dragon boat paddler!
LOCATION:Hudson River Rowing Association\, in Poughkeepsie\, NY
UID:e.2770.10480819
SEQUENCE:3
DTSTAMP:20260423T011804Z
URL:https://business.dcrcoc.org/events/details/dutchess-dragon-boat-and-river-festival-10480819
END:VEVENT

END:VCALENDAR
