BEGIN:VCALENDAR
VERSION:2.0
PRODID:-//ChamberMaster//Event Calendar 2.0//EN
METHOD:PUBLISH
X-PUBLISHED-TTL:P3D
REFRESH-INTERVAL:P3D
CALSCALE:GREGORIAN
BEGIN:VEVENT
DTSTART:20180721T130000Z
DTEND:20180721T200000Z
X-MICROSOFT-CDO-ALLDAYEVENT:FALSE
SUMMARY:Dutchess Dragon Boat Race & Festival
DESCRIPTION:Join us for our 5th Annual Dragon Boat Race & Festival. Habitat for Humanity of Dutchess County is honored and excited to host the 2018 event on Saturday\, July 21\, 2018\, at the Hudson River Rowing Association\, in Poughkeepsie\, NY. The tradition continues as this family-friendly event promises to unite community with culture\, showcasing Habitat's mission while raising funds and increasing community awareness. It promises to be an extraordinary day of exhilarating dragon boat races\, good food\, music\, games\, and fun alongside our beautiful Hudson River. If you've been a part of past Dragon Boat races\, we hope to see you back again. If this is your first time\, WELCOME! Visit our website for everything you need to know to become a dragon boat paddler!
X-ALT-DESC;FMTTYPE=text/html:Join us for our 5th Annual Dragon Boat Race &amp\; Festival. Habitat for Humanity of Dutchess County is honored and excited to host the 2018 event on Saturday\, July 21\, 2018\, at the Hudson River Rowing Association\, in Poughkeepsie\, NY. The tradition continues as this family-friendly event promises to unite community with culture\, showcasing Habitat&rsquo\;s mission while raising funds and increasing community awareness. It promises to be an extraordinary day of exhilarating dragon boat races\, good food\, music\, games\, and fun alongside our beautiful Hudson River. If you&rsquo\;ve been a part of past Dragon Boat races\, we hope to see you back again. If this is your first time\, WELCOME! Visit our website for everything you need to know to become a dragon boat paddler!
LOCATION:Hudson River Rowing Association
UID:e.2770.10479307
SEQUENCE:3
DTSTAMP:20260425T155350Z
URL:https://business.dcrcoc.org/events/details/dutchess-dragon-boat-race-festival-07-21-2018-10479307
END:VEVENT

END:VCALENDAR
