BEGIN:VCALENDAR
VERSION:2.0
PRODID:-//ChamberMaster//Event Calendar 2.0//EN
METHOD:PUBLISH
X-PUBLISHED-TTL:P3D
REFRESH-INTERVAL:P3D
CALSCALE:GREGORIAN
BEGIN:VEVENT
DTSTART:20180508T123000Z
DTEND:20180508T160000Z
X-MICROSOFT-CDO-ALLDAYEVENT:FALSE
SUMMARY:Dutchess Tourism Awards of Distinction & Travel Rally Day Brochure Exchange
DESCRIPTION:Join us for the 5th Annual Dutchess Tourism Awards of Distinction. A locally sourced buffet breakfast catered by Simply Gourmet will kick the day off at 8:30 a.m.\, where the Awards of Distinction will be presented. Following the awards ceremony is a free brochure exchange from 10:00 a.m.   12:00 p.m. Bring a minimum of 500 rack cards to share for cross-promotion to visitors. Working together helps ensure a great Dutchess County visitor experience! Great networking opportunities at the breakfast and brochure exchange!
X-ALT-DESC;FMTTYPE=text/html:Join us for the 5th Annual Dutchess Tourism Awards of Distinction. A locally sourced buffet breakfast catered by Simply Gourmet will kick the day off at 8:30 a.m.\, where the Awards of Distinction will be presented. Following the awards ceremony is a free brochure exchange from 10:00 a.m. &ndash\; 12:00 p.m. Bring a minimum of 500 rack cards to share for cross-promotion to visitors. Working together helps ensure a great Dutchess County visitor experience! Great networking opportunities at the breakfast and brochure exchange!
LOCATION:Franklin D. Roosevelt Presidential Library and Museum\, 4079 Albany Post Road\, Hyde Park 12528
UID:e.2770.10476889
SEQUENCE:3
DTSTAMP:20260425T182128Z
URL:https://business.dcrcoc.org/events/details/dutchess-tourism-awards-of-distinction-travel-rally-day-brochure-exchange-10476889
END:VEVENT

END:VCALENDAR
