BEGIN:VCALENDAR
VERSION:2.0
PRODID:-//ChamberMaster//Event Calendar 2.0//EN
METHOD:PUBLISH
X-PUBLISHED-TTL:P3D
REFRESH-INTERVAL:P3D
CALSCALE:GREGORIAN
BEGIN:VEVENT
DTSTART:20200616T160000Z
DTEND:20200616T170000Z
X-MICROSOFT-CDO-ALLDAYEVENT:FALSE
SUMMARY:Dutchess Tourism Awards of Distinction - Watch Party
DESCRIPTION:Even though we wish we could celebrate the 2020 Dutchess Tourism Awards of Distinction in-person\, we're excited to host a live Watch Party to recognize our local tourism businesses that demonstrate industry excellence. Join us as we honor the Awards of Distinction finalists and announce this year's winners! Get to know a little bit more about the finalists in our category spotlights here.
X-ALT-DESC;FMTTYPE=text/html:<span style="color:rgb(75\, 75\, 75)\; font-family:work sans\; font-size:18px">Even though we wish we could celebrate the 2020 Dutchess Tourism Awards of Distinction in-person\, we&rsquo\;re excited to host a live Watch Party to recognize our local tourism businesses that demonstrate industry excellence. Join us as we honor the Awards of Distinction&nbsp\;</span><u><strong><a href="https://dutchesstourism.com/awards-of-distinction-finalists" style="box-sizing: border-box\; background-color: transparent\; color: rgb(123\, 50\, 81)\; text-decoration-line: none\;">finalists</a></strong></u><span style="color:rgb(75\, 75\, 75)\; font-family:work sans\; font-size:18px">&nbsp\;and announce this year&rsquo\;s winners! Get to know a little bit more about the finalists in our category spotlights&nbsp\;</span><u><strong><a href="https://dutchesstourism.com/spotlights/" style="box-sizing: border-box\; background-color: transparent\; color: rgb(123\, 50\, 81)\; text-decoration-line: none\;">here</a></strong></u><span style="color:rgb(75\, 75\, 75)\; font-family:work sans\; font-size:18px">.&nbsp\;</span>
LOCATION:YouTube Premier We'll send you the link to join us on Monday\, June 15 you won't want to miss the party!
UID:e.2770.10483309
SEQUENCE:3
DTSTAMP:20260422T045204Z
URL:https://business.dcrcoc.org/events/details/dutchess-tourism-awards-of-distinction-watch-party-10483309
END:VEVENT

END:VCALENDAR
