BEGIN:VCALENDAR
VERSION:2.0
PRODID:-//ChamberMaster//Event Calendar 2.0//EN
METHOD:PUBLISH
X-PUBLISHED-TTL:P3D
REFRESH-INTERVAL:P3D
CALSCALE:GREGORIAN
BEGIN:VEVENT
DTSTART:20190403T173000Z
DTEND:20190403T190000Z
X-MICROSOFT-CDO-ALLDAYEVENT:FALSE
SUMMARY:Dutchess Tourism's 2019 Lunch & Learn Seminar - How to Be Film-Friendly: The Ins & Outs of Working with Film & Television Productions
DESCRIPTION:Dutchess Tourism\, Inc. hosts a Lunch & Learn Seminar for tourism-related businesses but anyone is welcome to attend. Participants are encouraged to bring their lunches to eat while they listen to the presentation. There will also be time for networking with other participants and the speaker(s). Kacie Vassari\, DTI's communications specialist\, will kick off each seminar with a short social media tips and tricks segment.\n\n\n\nGuest Presenter: Nick Pray\, Assistant Location Manager\, HBO's "I Know This Much is True"\n\nNick's experience working with locations runs the gamut from the HBO series Boardwalk Empire\, to indie films like Paterson and You Were Never Really Here\, to the blockbuster Avengers: Infinity War. In this session\, he will share insights about what location scouts look for and ways you can successfully work with productions. Join us for this informative presentation and Q&A.
X-ALT-DESC;FMTTYPE=text/html:Dutchess Tourism\, Inc. hosts a Lunch &amp\; Learn Seminar for tourism-related businesses but anyone is welcome to attend. Participants are encouraged to bring their lunches to eat while they listen to the presentation. There will also be time for networking with other participants and the speaker(s). Kacie Vassari\, DTI&rsquo\;s communications specialist\, will kick off each seminar with a short social media tips and tricks segment.<br />\n<br />\n<em>Guest Presenter: Nick Pray\, Assistant Location Manager\, HBO&rsquo\;s &ldquo\;I Know This Much is True&rdquo\;</em><br />\nNick&rsquo\;s experience working with locations runs the gamut from the HBO series Boardwalk Empire\, to indie films like Paterson and You Were Never Really Here\, to the blockbuster Avengers: Infinity War. In this session\, he will share insights about what location scouts look for and ways you can successfully work with productions. Join us for this informative presentation and Q&amp\;A.&nbsp\;
LOCATION:VINO AT CREW RESTAURANT & BAR 2290 South Road (Route 9)\, Poughkeepsie 12601 * (845) 462-8900
UID:e.2770.10480501
SEQUENCE:3
DTSTAMP:20260423T062832Z
URL:https://business.dcrcoc.org/events/details/dutchess-tourism-s-2019-lunch-learn-seminar-how-to-be-film-friendly-the-ins-outs-of-working-with-film-television-productions-10480501
END:VEVENT

END:VCALENDAR
