BEGIN:VCALENDAR
VERSION:2.0
PRODID:-//ChamberMaster//Event Calendar 2.0//EN
METHOD:PUBLISH
X-PUBLISHED-TTL:P3D
REFRESH-INTERVAL:P3D
CALSCALE:GREGORIAN
BEGIN:VEVENT
DTSTART:20190320T173000Z
DTEND:20190320T190000Z
X-MICROSOFT-CDO-ALLDAYEVENT:FALSE
SUMMARY:Dutchess Tourism's 2019 Lunch & Learn Seminar - Search Engine Optimization – What is it and why is it so important to every business?
DESCRIPTION:Dutchess Tourism\, Inc. hosts a Lunch & Learn Seminar for tourism-related businesses but anyone is welcome to attend. Participants are encouraged to bring their lunches to eat while they listen to the presentation. There will also be time for networking with other participants and the speaker(s). Kacie Vassari\, DTI's communications specialist\, will kick off each seminar with a short social media tips and tricks segment.\n\n\n\nGuest Presenter: Jason Finkelberg\, President\, Townsquare Media Hudson Valley \n\nIf you own a business and have a website\, you surely have been told that you need a strong SEO strategy. Fine\, but what is SEO and what's involved? The old adage\, "if you build it\, they will come" does not necessarily apply to your website. Constructing a pretty website does not guarantee anyone will visit it. That's where search engine optimization comes in. Townsquare Media will demystify SEO and outline the different components that go into a successful strategy.
X-ALT-DESC;FMTTYPE=text/html:Dutchess Tourism\, Inc. hosts a Lunch &amp\; Learn Seminar for tourism-related businesses but anyone is welcome to attend. Participants are encouraged to bring their lunches to eat while they listen to the presentation. There will also be time for networking with other participants and the speaker(s). Kacie Vassari\, DTI&rsquo\;s communications specialist\, will kick off each seminar with a short social media tips and tricks segment.<br />\n<br />\nGuest Presenter: Jason Finkelberg\, President\, Townsquare Media Hudson Valley&nbsp\;<br />\nIf you own a business and have a website\, you surely have been told that you need a strong SEO strategy. Fine\, but what is SEO and what&rsquo\;s involved? The old adage\, &ldquo\;if you build it\, they will come&rdquo\; does not necessarily apply to your website. Constructing a pretty website does not guarantee anyone will visit it. That&rsquo\;s where search engine optimization comes in. Townsquare Media will demystify SEO and outline the different components that go into a successful strategy.<br />\n&nbsp\;
LOCATION:DELAMATER INN CONFERENCE CENTER 25 Garden Street\, Rhinebeck NY 12572 * (845) 876-7077
UID:e.2770.10480499
SEQUENCE:3
DTSTAMP:20260423T081949Z
URL:https://business.dcrcoc.org/events/details/dutchess-tourism-s-2019-lunch-learn-seminar-search-engine-optimization-what-is-it-and-why-is-it-so-important-to-every-business-10480499
END:VEVENT

END:VCALENDAR
