BEGIN:VCALENDAR
VERSION:2.0
PRODID:-//ChamberMaster//Event Calendar 2.0//EN
METHOD:PUBLISH
X-PUBLISHED-TTL:P3D
REFRESH-INTERVAL:P3D
CALSCALE:GREGORIAN
BEGIN:VEVENT
DTSTART:20200418T130000Z
DTEND:20200418T160000Z
X-MICROSOFT-CDO-ALLDAYEVENT:FALSE
SUMMARY:Dutchess-Ulster Heart Walk
DESCRIPTION:April 18\, 2020 | Dutchess Community College 8:30am - Check-in for Fun Run 9:00am - Check-in for Walk 9:00am - Fun Run Starts 10:00am - Walk Starts
X-ALT-DESC;FMTTYPE=text/html:April 18\, 2020 | Dutchess Community College 8:30am - Check-in for Fun Run 9:00am - Check-in for Walk 9:00am - Fun Run Starts 10:00am - Walk Starts
LOCATION:Dutchess Community College
UID:e.2770.10482604
SEQUENCE:3
DTSTAMP:20260422T082009Z
URL:https://business.dcrcoc.org/events/details/dutchess-ulster-heart-walk-04-18-2020-10482604
END:VEVENT

END:VCALENDAR
