BEGIN:VCALENDAR
VERSION:2.0
PRODID:-//ChamberMaster//Event Calendar 2.0//EN
METHOD:PUBLISH
X-PUBLISHED-TTL:P3D
REFRESH-INTERVAL:P3D
CALSCALE:GREGORIAN
BEGIN:VEVENT
DTSTART:20190413T130000Z
DTEND:20190413T160000Z
X-MICROSOFT-CDO-ALLDAYEVENT:FALSE
SUMMARY:Dutchess-Ulster Heart Walk
DESCRIPTION:Event Description: The Heart Walk is the American Heart Association's premier event for raising funds to save lives from this country's No. 1 and No. 5 killers - heart disease and stroke. Heart disease and stroke survivors are an important part of our Heart Walks. Each survivor receives a red ball cap and have the opportunity to gather with other survivors. Don't go at it alone! Create a team with your friends and family at your local Heart Walk! Together\, you can fundraise and help fight heart disease and stroke. Register online at www.dutchessulsterheartwalk.org For more info\, team resources\, or sponsorship\, contact Danielle Schuka at danielle.schuka@heart.org\, 845-867-5379
X-ALT-DESC;FMTTYPE=text/html:Event Description: The Heart Walk is the American Heart Association&#39\;s premier event for raising funds to save lives from this country&#39\;s No. 1 and No. 5 killers - heart disease and stroke. Heart disease and stroke survivors are an important part of our Heart Walks. Each survivor receives a red ball cap and have the opportunity to gather with other survivors. Don&rsquo\;t go at it alone! Create a team with your friends and family at your local Heart Walk! Together\, you can fundraise and help fight heart disease and stroke. Register online at www.dutchessulsterheartwalk.org For more info\, team resources\, or sponsorship\, contact Danielle Schuka at danielle.schuka@heart.org\, 845-867-5379
LOCATION:Dutchess Community College 91 Cottage Road\, Lot D
UID:e.2770.10480632
SEQUENCE:3
DTSTAMP:20260423T062414Z
URL:https://business.dcrcoc.org/events/details/dutchess-ulster-heart-walk-10480632
END:VEVENT

END:VCALENDAR
