BEGIN:VCALENDAR
VERSION:2.0
PRODID:-//ChamberMaster//Event Calendar 2.0//EN
METHOD:PUBLISH
X-PUBLISHED-TTL:P3D
REFRESH-INTERVAL:P3D
CALSCALE:GREGORIAN
BEGIN:VEVENT
DTSTART:20190421T143000Z
DTEND:20190421T190000Z
X-MICROSOFT-CDO-ALLDAYEVENT:FALSE
SUMMARY:Easter Brunch - Le Chambord at Curry Estate
DESCRIPTION:The Curry Family invites you to join us at Le Chambord for our first Easter Brunch on Curry Estate.  Our buffet style brunch will please every palate with an abundant variety of culinary specialties.  \n\n\n\nActivities for the kids include:\n\n	Egg Hunt at 11:30 & 1:30\n	Cup Cake Decorating\n	Table puzzles & coloring\n	Pictures with the Easter Bunny\n\nThe main dining room will also be serving a special Easter Menu from 2:30-5:00pm\n\n\n\nPlease call to make you reservation at 845-221-1941
X-ALT-DESC;FMTTYPE=text/html:The Curry Family invites you to join us at Le Chambord for our first Easter Brunch on Curry Estate.&nbsp\; Our buffet style brunch will please every palate with an abundant variety of culinary specialties.&nbsp\;&nbsp\;<br />\n<br />\nActivities for the kids include:\n<ul>\n	<li>Egg Hunt at 11:30 &amp\; 1:30</li>\n	<li>Cup Cake Decorating</li>\n	<li>Table puzzles &amp\; coloring</li>\n	<li>Pictures with the Easter Bunny</li>\n</ul>\nThe main dining room will also be serving a special Easter Menu from 2:30-5:00pm<br />\n<br />\nPlease call to make you reservation at 845-221-1941\n<p>&nbsp\;</p>\n
LOCATION:Le Chambord at Curry Estate 2737 Route 52 Hopewell Jct.\, NY 12533
UID:e.2770.10480596
SEQUENCE:3
DTSTAMP:20260423T063634Z
URL:https://business.dcrcoc.org/events/details/easter-brunch-le-chambord-at-curry-estate-10480596
END:VEVENT

END:VCALENDAR
