BEGIN:VCALENDAR
VERSION:2.0
PRODID:-//ChamberMaster//Event Calendar 2.0//EN
METHOD:PUBLISH
X-PUBLISHED-TTL:P3D
REFRESH-INTERVAL:P3D
CALSCALE:GREGORIAN
BEGIN:VEVENT
DTSTART:20180324T140000Z
DTEND:20180324T200000Z
X-MICROSOFT-CDO-ALLDAYEVENT:FALSE
SUMMARY:Easter Egg-Stravaganza
DESCRIPTION:Celebrate Easter on the farm Saturday\, March 24th\, 2018 at our annual Egg-Stravaganza and Orchard Egg Hunt. Enjoy a day on the farm with the whole family visiting with the Easter bunny\, hunting for eggs amongst the apple trees\, planting sunflowers\, and taking hayrides through the orchard. We'll be serving hot lunch and snack items\, and as always\, we'll have our delicious cinnamon sugar donuts made fresh. Our Treasury Cider Bar will be open and offering free tastings of Fishkill Farms' own hard cider (21+)\, as well as serving glasses and full tastings in the comfort of our warm barn. We've sold out online in the past three years! We've opened up more spaces this year\, but do not wait to reserve your space online. Purchasing a ticket online guarantees your child's spot in the selected time slot for the egg hunt and includes the Orchard Egg Hunt\, wagon rides\, photos with the Easter Bunny\, Spring Seeding Workshop\, and live children's entertainment. Rain Date is Sunday\, March 25th
X-ALT-DESC;FMTTYPE=text/html:Celebrate Easter on the farm Saturday\, March 24th\, 2018 at our annual Egg-Stravaganza and Orchard Egg Hunt. Enjoy a day on the farm with the whole family visiting with the Easter bunny\, hunting for eggs amongst the apple trees\, planting sunflowers\, and taking hayrides through the orchard. We&rsquo\;ll be serving hot lunch and snack items\, and as always\, we&rsquo\;ll have our delicious cinnamon sugar donuts made fresh. Our Treasury Cider Bar will be open and offering free tastings of Fishkill Farms&rsquo\; own hard cider (21+)\, as well as serving glasses and full tastings in the comfort of our warm barn. We&rsquo\;ve sold out online in the past three years! We&rsquo\;ve opened up more spaces this year\, but do not wait to reserve your space online. Purchasing a ticket online guarantees your child&rsquo\;s spot in the selected time slot for the egg hunt and includes the Orchard Egg Hunt\, wagon rides\, photos with the Easter Bunny\, Spring Seeding Workshop\, and live children&#39\;s entertainment. Rain Date is Sunday\, March 25th
LOCATION:Fishkill Farms 9 Fishkill Farms Hopewell Junction\, NY 12533
UID:e.2770.10476913
SEQUENCE:3
DTSTAMP:20260425T210235Z
URL:https://business.dcrcoc.org/events/details/easter-egg-stravaganza-10476913
END:VEVENT

END:VCALENDAR
