BEGIN:VCALENDAR
VERSION:2.0
PRODID:-//ChamberMaster//Event Calendar 2.0//EN
METHOD:PUBLISH
X-PUBLISHED-TTL:P3D
REFRESH-INTERVAL:P3D
CALSCALE:GREGORIAN
BEGIN:VEVENT
DTSTART:20180604T200000Z
DTEND:20180605T000000Z
X-MICROSOFT-CDO-ALLDAYEVENT:FALSE
SUMMARY:Eat for Change: Greystone Programs Fundraiser at Chipotle
DESCRIPTION:Make dinner a selfless act by joining Chipotle in Fishkill (10 Westage Drive) for a fundraiser to support Greystone Programs Inc. On Monday\, June 4th from 4:00pm-8:00pm\, let the cashier know you're supporting Greystone Programs when purchasing your order to ensure 50% of the proceeds will be donated to the organization.
X-ALT-DESC;FMTTYPE=text/html:Make dinner a selfless act by joining Chipotle in Fishkill (10 Westage Drive) for a fundraiser to support Greystone Programs Inc. On Monday\, June 4th from 4:00pm-8:00pm\, let the cashier know you&rsquo\;re supporting Greystone Programs when purchasing your order to ensure 50% of the proceeds will be donated to the organization.
LOCATION:Chipotle 10 Westage Drive Fishkill\, NY
UID:e.2770.10477792
SEQUENCE:3
DTSTAMP:20260425T165813Z
URL:https://business.dcrcoc.org/events/details/eat-for-change-greystone-programs-fundraiser-at-chipotle-10477792
END:VEVENT

END:VCALENDAR
