BEGIN:VCALENDAR
VERSION:2.0
PRODID:-//ChamberMaster//Event Calendar 2.0//EN
METHOD:PUBLISH
X-PUBLISHED-TTL:P3D
REFRESH-INTERVAL:P3D
CALSCALE:GREGORIAN
BEGIN:VEVENT
DTSTART:20200625T160000Z
DTEND:20200625T170000Z
X-MICROSOFT-CDO-ALLDAYEVENT:FALSE
SUMMARY:EDUCATORS: FREE WEBINAR - "Reopening Schools: Legal Issues to Consider"
DESCRIPTION:On Thursday\, June 25\, 2020 at 12:00 p.m.\, Keane & Beane's Education Law Department Attorneys Stephanie L. Burns\, Ralph C. DeMarco\, William Kang\, Stephanie M. Roebuck and Susan E. Fine\, together with Westchester Putnam School Boards Association will present a free webinar on the reopening of schools and legal issues to consider.\n\nThe discussion will include:\n\n\n	Instructional Day\n	Distance Learning\n	Protecting Privacy\n	Facilities & Transportation\n\nRegister: HERE (access link will be sent the morning of the program)
X-ALT-DESC;FMTTYPE=text/html:<p>On Thursday\, June 25\, 2020 at 12:00 p.m.\, Keane &amp\; Beane&#39\;s <a href="https://www.kblaw.com/education-law/">Education Law Department</a> Attorneys <a href="https://www.kblaw.com/member/stephanie-l-burns/">Stephanie L. Burns</a>\, <a href="https://www.kblaw.com/member/ralph-c-demarco/">Ralph C. DeMarco</a>\, <a href="https://www.kblaw.com/member/william-kang/">William Kang\,</a>&nbsp\;<a href="https://www.kblaw.com/member/stephanie-m-roebuck/">Stephanie M. Roebuck</a>&nbsp\;and <a href="https://www.kblaw.com/member/susan-fine/">Susan E. Fine</a>\, together with <a href="https://www.wpsba.org/Domain/4">Westchester Putnam School Boards Association</a> will present a free webinar on the reopening of schools and legal issues to consider.</p>\n\n<p>The discussion will include:</p>\n\n<ul>\n	<li>Instructional Day</li>\n	<li>Distance Learning</li>\n	<li>Protecting Privacy</li>\n	<li>Facilities &amp\; Transportation</li>\n</ul>\n<strong>Register</strong>: <a href="https://www.wpsba.org/Page/3233">HERE</a> (access link will be sent the morning of the program)
LOCATION:ZOOM WEBINAR
UID:e.2770.10483330
SEQUENCE:3
DTSTAMP:20260422T045038Z
URL:https://business.dcrcoc.org/events/details/educators-free-webinar-reopening-schools-legal-issues-to-consider-10483330
END:VEVENT

END:VCALENDAR
