BEGIN:VCALENDAR
VERSION:2.0
PRODID:-//ChamberMaster//Event Calendar 2.0//EN
METHOD:PUBLISH
X-PUBLISHED-TTL:P3D
REFRESH-INTERVAL:P3D
CALSCALE:GREGORIAN
BEGIN:VEVENT
DTSTART:20171004T190000Z
DTEND:20171004T220000Z
X-MICROSOFT-CDO-ALLDAYEVENT:FALSE
SUMMARY:Educators' Night at Friends' Book Store
DESCRIPTION:All books\, DVDs\, CDs and audio books will be on sale at half price for area teachers from 3 to 6 p.m. on October 4 at the Friends of the Poughkeepsie Public Library District's Book Store at 141 Boardman Rd.\, Poughkeepsie. The more than 20\,000 books in a wide variety of categories including fiction and nonfiction\, children's and young adults' hardcover and paperback books plus other media on the store's shelves are regularly priced from 50 cents to $2. Red Tag books\, which are 25 cents each\, are excluded from the sale. The sale will offer teachers an opportunity to purchase books and other materials for classroom and personal use at half price with their teacher's identification. The store accepts cash\; MasterCard\, VISA and Discovery cards\; and\, checks with identification. Refreshments will be served and educators are eligible to enter a drawing for a variety of prizes. The Friends of the Poughkeepsie Public Library District is an all-volunteer organization that supports the district's programs and services. Friends' volunteers replenish the book shelves continually from the large inventory of presorted quality books that are donated by community members and housed in the Friends' warehouse so the shelves are always full. The Book Store regular hours are from 10 a.m. to 4 p.m. every Tuesday\, Thursday and Saturday. The Book Store is located at the Boardman Road Branch Library (entrance behind the Library on the south side)\, 141 Boardman Rd.\, Poughkeepsie. Look for the blue awning. For more information about the Book Store\, call 845-485-3445 x. 3423\, or visit www.facebook.com/PoughkeepsieLibraryBookstore.
X-ALT-DESC;FMTTYPE=text/html:All books\, DVDs\, CDs and audio books will be on sale at half price for area teachers from 3 to 6 p.m. on October 4 at the Friends of the Poughkeepsie Public Library District&rsquo\;s Book Store at 141 Boardman Rd.\, Poughkeepsie. The more than 20\,000 books in a wide variety of categories including fiction and nonfiction\, children&rsquo\;s and young adults&rsquo\; hardcover and paperback books plus other media on the store&rsquo\;s shelves are regularly priced from 50 cents to $2. Red Tag books\, which are 25 cents each\, are excluded from the sale. The sale will offer teachers an opportunity to purchase books and other materials for classroom and personal use at half price with their teacher&rsquo\;s identification. The store accepts cash\; MasterCard\, VISA and Discovery cards\; and\, checks with identification. Refreshments will be served and educators are eligible to enter a drawing for a variety of prizes. The Friends of the Poughkeepsie Public Library District is an all-volunteer organization that supports the district&rsquo\;s programs and services. Friends&rsquo\; volunteers replenish the book shelves continually from the large inventory of presorted quality books that are donated by community members and housed in the Friends&rsquo\; warehouse so the shelves are always full. The Book Store regular hours are from 10 a.m. to 4 p.m. every Tuesday\, Thursday and Saturday. The Book Store is located at the Boardman Road Branch Library (entrance behind the Library on the south side)\, 141 Boardman Rd.\, Poughkeepsie. Look for the blue awning. For more information about the Book Store\, call 845-485-3445 x. 3423\, or visit www.facebook.com/PoughkeepsieLibraryBookstore.
LOCATION:Friends' Book Store 141 Boardman Rd (entrance behind Library) Poughkeepsie\, NY 12603
UID:e.2770.10476325
SEQUENCE:3
DTSTAMP:20260426T033315Z
URL:https://business.dcrcoc.org/events/details/educators-night-at-friends-book-store-10476325
END:VEVENT

END:VCALENDAR
