BEGIN:VCALENDAR
VERSION:2.0
PRODID:-//ChamberMaster//Event Calendar 2.0//EN
METHOD:PUBLISH
X-PUBLISHED-TTL:P3D
REFRESH-INTERVAL:P3D
CALSCALE:GREGORIAN
BEGIN:VEVENT
DTSTART:20191105T130000Z
DTEND:20191105T143000Z
X-MICROSOFT-CDO-ALLDAYEVENT:FALSE
SUMMARY:Election Day Clinic
DESCRIPTION:Election Day Clinic November 5th - IceTime 8am-9:30am
X-ALT-DESC;FMTTYPE=text/html:Election Day Clinic November 5th - IceTime 8am-9:30am
LOCATION:Ice Time Sports Complex 21 Lakeside Road Newburgh\, NY 12550
UID:e.2770.10482533
SEQUENCE:3
DTSTAMP:20260422T172310Z
URL:https://business.dcrcoc.org/events/details/election-day-clinic-10482533
END:VEVENT

END:VCALENDAR
