BEGIN:VCALENDAR
VERSION:2.0
PRODID:-//ChamberMaster//Event Calendar 2.0//EN
METHOD:PUBLISH
X-PUBLISHED-TTL:P3D
REFRESH-INTERVAL:P3D
CALSCALE:GREGORIAN
BEGIN:VEVENT
DTSTART:20200401T120000Z
DTEND:20200401T133000Z
X-MICROSOFT-CDO-ALLDAYEVENT:FALSE
SUMMARY:Emergency Lending Solutions for Businesses and Nonprofits Available During the COVID-19 Crisis Webinar
DESCRIPTION:The Dutchess County Regional Chamber of Commerce presents another in its series of complimentary webinars to provide businesses and organizations information and resources.\n\n\n\nPanelists:\n\n\n\nFred Swint\, Vice President/New York SBA at KeyBank\n\nMyriam Bouchard\, Certified Business Advisor - Small Business Development Center Mid-Hudson Region\n\nFernando Ahumada\, VP Lending at Community Capital New York\n\n\n\nQuestions will be taken during the webinar\, but may be sent in advance to richk@dcrcoc.org.\n\n\n\nSponsored By: Stenger\, Roberts\, Davis & Diamond LLP - SRDD Law\n\n\n\nThis webinar will also be recorded and archived to watch on demand.\n\n	To Register\, Please Click Here
X-ALT-DESC;FMTTYPE=text/html:<span style="font-size:16px\;"><span style="font-family:tahoma\;"><span style="color: rgb(35\, 35\, 51)\; background-color: rgb(255\, 255\, 255)\;">The Dutchess County Regional Chamber of Commerce presents another in its series of complimentary webinars to provide businesses and organizations information and resources.<br />\n<br />\n<em>Panelists</em>:<br />\n<br />\n<strong>Fred Swint</strong>\, <span style="font-size:12px\;">Vice President/New York SBA at KeyBank</span><br />\n<strong>Myriam Bouchard</strong>\, <span style="font-size:12px\;">Certified Business Advisor - Small Business Development Center Mid-Hudson Region</span><br />\n<strong>Fernando Ahumada</strong>\, <span style="font-size:12px\;">VP Lending at Community Capital New York</span><br />\n<br />\nQuestions will be taken during the webinar\, but may be sent in advance to </span><span style="background-color: rgb(255\, 255\, 255)\;"><a href="mailto:richk@dcrcoc.org" target="_blank"><span style="color:#0000FF\;">richk@dcrcoc.org</span></a></span><span style="color: rgb(35\, 35\, 51)\; background-color: rgb(255\, 255\, 255)\;">.<br />\n<br />\n<strong>Sponsored By</strong>: </span></span></span><span style="font-size: 12pt\; font-family: Arial\, sans-serif\;"><a href="https://srddlaw.com/" target="_blank"><span style="color:#0000FF\;">Stenger\, Roberts\, Davis &amp\; Diamond LLP - SRDD Law</span></a></span><br />\n<br />\n<span style="font-size:16px\;"><span style="font-family:tahoma\;"><span style="color: rgb(35\, 35\, 51)\; background-color: rgb(255\, 255\, 255)\;">This webinar will also be recorded and archived to watch on demand.</span></span></span>\n<ul>\n	<li><span style="font-size:16px\;"><span style="font-family:tahoma\;">To Register\, Please Click <a href="https://zoom.us/webinar/register/WN_Q5PmgPAQQ_2KZebSRY4ERw" target="_blank"><span style="color:#0000FF\;">Here</span></a></span></span></li>\n</ul>\n
LOCATION:
UID:e.2770.10483240
SEQUENCE:3
DTSTAMP:20260422T083541Z
URL:https://business.dcrcoc.org/events/details/emergency-lending-solutions-for-businesses-and-nonprofits-available-during-the-covid-19-crisis-webinar-10483240
END:VEVENT

END:VCALENDAR
