BEGIN:VCALENDAR
VERSION:2.0
PRODID:-//ChamberMaster//Event Calendar 2.0//EN
METHOD:PUBLISH
X-PUBLISHED-TTL:P3D
REFRESH-INTERVAL:P3D
CALSCALE:GREGORIAN
BEGIN:VEVENT
DTSTART:20200630T160000Z
DTEND:20200630T170000Z
X-MICROSOFT-CDO-ALLDAYEVENT:FALSE
SUMMARY:Employment Issues Relating to NY Forward
DESCRIPTION:The Chamber's complimentary webinar series continues with this event to present Employment Issues Relating to New York Forward. Guidance will be discussed by Jaclyn Goldberg and Lance Klein of Keane & Beane\, who will also take questions.\n\n\n\nThank you to KeyBank for sponsoring this event.\n\n\n\nTo Register\, Please Click Here
X-ALT-DESC;FMTTYPE=text/html:<br />\n<span style="font-size:16px\;"><span style="font-family:tahoma\;"><span style="color:#232333\;">The Chamber&#39\;s complimentary webinar series continues with this event to present Employment Issues Relating to New York Forward. Guidance will be discussed by Jaclyn Goldberg and Lance Klein of Keane &amp\; Beane\, who will also take questions.<br />\n<br />\nThank you to </span><strong><a href="https://www.key.com/personal/index.jsp" target="_blank"><span style="color:#0000FF\;">KeyBank</span></a></strong><a href="https://www.key.com/personal/index.jsp" target="_blank"><span style="color:#0000FF\;"><strong>&nbsp\;</strong></span></a><span style="color:#232333\;">for sponsoring this event.<br />\n<br />\nTo Register\, Please Click </span><strong><a href="https://us02web.zoom.us/webinar/register/WN_xN5BqRiqSi6L55zHHFPUBQ" target="_blank"><span style="color:#0000FF\;">Here</span></a></strong></span></span><br />\n<br />\n<br />\n&nbsp\;
LOCATION:
UID:e.2770.10483315
SEQUENCE:3
DTSTAMP:20260422T044823Z
URL:https://business.dcrcoc.org/events/details/employment-issues-relating-to-ny-forward-10483315
END:VEVENT

END:VCALENDAR
