BEGIN:VCALENDAR
VERSION:2.0
PRODID:-//ChamberMaster//Event Calendar 2.0//EN
METHOD:PUBLISH
X-PUBLISHED-TTL:P3D
REFRESH-INTERVAL:P3D
CALSCALE:GREGORIAN
BEGIN:VEVENT
DTSTART:20181013T180000Z
DTEND:20181013T213000Z
X-MICROSOFT-CDO-ALLDAYEVENT:FALSE
SUMMARY:Myrecipe4life - Empowering Each Other Networking Series Finale!
DESCRIPTION:INVEST IN YOU! - SAVE THE DATE!!!!\n\n\n\nMyrecipe4life\, LLC\n\n\n\nTake the time out to meet and greet women from the Tri-State area with a concentration on the Mid-Hudson Valley. If you are a woman in business\, or thinking about starting a business\, or just want to meet other like minded positive women\, then this is the event for you. Come out for a day of networking\, conversations\, and food/drinks. It's all about making networking connections and supporting your fellow women in business. We have some amazing guest speakers and keynote speaker lined up for you. Listen and hear some dynamic women share their journey. #Myrecipe4life #DreamJourney #TrustTheProcess \n\n\n\nEARLY BIRD TICKETS $15\n\n\n\nwww.eventbrite.com\n\n\n\nMEN ARE WELCOME\, PLEASE SHARE WITH YOUR S/O\, DAUGHTERS\, SISTERS\, AUNTS\, GODMOTHER'\, COUSINS AND ANYONE YOU WILL THAT WILL BENEFIT FROM SUCH AN EVENT.
X-ALT-DESC;FMTTYPE=text/html:<span style="background-color:rgb(255\, 255\, 255)\; color:rgb(29\, 33\, 41)\; font-family:helvetica\,arial\,sans-serif\; font-size:14px">INVEST IN YOU! - SAVE THE DATE!!!!</span><br />\n<br />\n<span style="background-color:rgb(255\, 255\, 255)\; color:rgb(29\, 33\, 41)\; font-family:helvetica\,arial\,sans-serif\; font-size:14px">Myrecipe4life\, LLC</span><br />\n<br />\n<span style="background-color:rgb(255\, 255\, 255)\; color:rgb(29\, 33\, 41)\; font-family:helvetica\,arial\,sans-serif\; font-size:14px">Take the time out to meet and greet women from the Tri-State area with a concentration on the Mid-Hudson Valley. If you are a woman in business\, or thinking about starting a business\, or just want to meet other like minded positive women\, then this is the event for you. Come out for a day of networking\, conversations\, and food/drinks. It&#39\;s all about making networking connections and supporting your fellow women in business. We have some amazing guest speakers and keynote speaker lined up for you. Listen and hear some dynamic women share their journey. #Myrecipe4life #DreamJourney #TrustTheProcess&nbsp\;</span><br />\n<br />\n<span style="background-color:rgb(255\, 255\, 255)\; color:rgb(29\, 33\, 41)\; font-family:helvetica\,arial\,sans-serif\; font-size:14px">EARLY BIRD TICKETS $15<br />\n<br />\nwww.eventbrite.com</span><br />\n<br />\n<span style="background-color:rgb(255\, 255\, 255)\; color:rgb(29\, 33\, 41)\; font-family:helvetica\,arial\,sans-serif\; font-size:14px">MEN ARE WELCOME\, PLEASE SHARE WITH YOUR S/O\, DAUGHTERS\, SISTERS\, AUNTS\, GODMOTHER&#39\;\, COUSINS AND ANYONE YOU WILL THAT WILL BENEFIT FROM SUCH AN EVENT.</span><br />\n&nbsp\;
LOCATION:793 Route 52 Fishkill\, NY 12524
UID:e.2770.10479341
SEQUENCE:3
DTSTAMP:20260425T114718Z
URL:https://business.dcrcoc.org/events/details/empowering-each-other-networking-series-finale-10479341
END:VEVENT

END:VCALENDAR
