BEGIN:VCALENDAR
VERSION:2.0
PRODID:-//ChamberMaster//Event Calendar 2.0//EN
METHOD:PUBLISH
X-PUBLISHED-TTL:P3D
REFRESH-INTERVAL:P3D
CALSCALE:GREGORIAN
BEGIN:VEVENT
DTSTART:20230815T220000Z
DTEND:20230815T230000Z
X-MICROSOFT-CDO-ALLDAYEVENT:FALSE
SUMMARY:Estate Planning Workshop with The Law Office of Alexander Sherwood
DESCRIPTION:Although discussing estate planning may not be enjoyable\, it encompasses more than just dividing up your assets among loved ones. Our Estate Planning Workshops are provided free of charge and cover various aspects of estate planning\, such as safeguarding your belongings from government agencies\, long-term care facilities\, and family members\; understanding the role of trusts and their differences between revocable and irrevocable trusts\; avoiding probate\; and determining the necessity of creating a Power of Attorney\, Living Will\, and Healthcare Proxy.\n\n\n\nTo register for this event\, click here.
X-ALT-DESC;FMTTYPE=text/html:Although discussing estate planning may not be enjoyable\, it encompasses more than just dividing up your assets among loved ones. Our Estate Planning Workshops are provided free of charge and cover various aspects of estate planning\, such as safeguarding your belongings from government agencies\, long-term care facilities\, and family members\; understanding the role of trusts and their differences between revocable and irrevocable trusts\; avoiding probate\; and determining the necessity of creating a Power of Attorney\, Living Will\, and Healthcare Proxy.<br />\n<br />\nTo register for this event\, <a href="https://alexanderkeenanlaw.com/community-seminars/">click here.</a>
LOCATION:1028 Main Street\, Fishkill\, NY 12524
UID:e.2770.10495240
SEQUENCE:3
DTSTAMP:20260420T040720Z
URL:https://business.dcrcoc.org/events/details/estate-planning-workshop-with-the-law-office-of-alexander-sherwood-10495240
END:VEVENT

END:VCALENDAR
