BEGIN:VCALENDAR
VERSION:2.0
PRODID:-//ChamberMaster//Event Calendar 2.0//EN
METHOD:PUBLISH
X-PUBLISHED-TTL:P3D
REFRESH-INTERVAL:P3D
CALSCALE:GREGORIAN
BEGIN:VEVENT
DTSTART:20171203T190000Z
DTEND:20171203T220000Z
X-MICROSOFT-CDO-ALLDAYEVENT:FALSE
SUMMARY:Evergreen Chorus Annual Show
DESCRIPTION:Evergreen Chorus-Division A-Sweet Adelines International Harmony Classic third Place Medal Award-presents\; SEASONS OF JOY! Starting with a cocktail hour with hors d'oeuvres and cash bar followed by a 3pm performance of a cappella popular tunes and holiday music.
X-ALT-DESC;FMTTYPE=text/html:Evergreen Chorus-Division A-Sweet Adelines International Harmony Classic third Place Medal Award-presents\; SEASONS OF JOY! Starting with a cocktail hour with hors d&#39\;oeuvres and cash bar followed by a 3pm performance of a cappella popular tunes and holiday music.
LOCATION:Italian Center 227 Mill Street Poughkeepsie\, NY 12601
UID:e.2770.10476528
SEQUENCE:3
DTSTAMP:20260426T004901Z
URL:https://business.dcrcoc.org/events/details/evergreen-chorus-annual-show-10476528
END:VEVENT

END:VCALENDAR
