BEGIN:VCALENDAR
VERSION:2.0
PRODID:-//ChamberMaster//Event Calendar 2.0//EN
METHOD:PUBLISH
X-PUBLISHED-TTL:P3D
REFRESH-INTERVAL:P3D
CALSCALE:GREGORIAN
BEGIN:VEVENT
DTSTART:20171007T140000Z
DTEND:20171008T200000Z
X-MICROSOFT-CDO-ALLDAYEVENT:FALSE
SUMMARY:Fall Antiques at Rhinebeck
DESCRIPTION:One hundred and twenty five diverse and talented exhibitors will fill three huge buildings with folk and fine art\, American and European antiques\, estate and vintage jewelry including watches\, mid century modern\, Native American\, silver\, art pottery\, posters\, quilts and vintage textiles\, fantastic garden and architectural decorations\, lighting\, early toys and banks\, stoneware plus so much more. We also feature a special show exhibit\, 'The Sculptural Works of Harris Diamant'\, food trucks and a mini farmers market.
X-ALT-DESC;FMTTYPE=text/html:One hundred and twenty five diverse and talented exhibitors will fill three huge buildings with folk and fine art\, American and European antiques\, estate and vintage jewelry including watches\, mid century modern\, Native American\, silver\, art pottery\, posters\, quilts and vintage textiles\, fantastic garden and architectural decorations\, lighting\, early toys and banks\, stoneware plus so much more. We also feature a special show exhibit\, &#39\;The Sculptural Works of Harris Diamant&#39\;\, food trucks and a mini farmers market.
LOCATION:Dutchess County Fairgrounds 6550 Spring Brook Ave (Route9) Entrance on Mulberry St Rhinebeck NY 12572
UID:e.2770.10476247
SEQUENCE:3
DTSTAMP:20260426T033304Z
URL:https://business.dcrcoc.org/events/details/fall-antiques-at-rhinebeck-10476247
END:VEVENT

END:VCALENDAR
