BEGIN:VCALENDAR
VERSION:2.0
PRODID:-//ChamberMaster//Event Calendar 2.0//EN
METHOD:PUBLISH
X-PUBLISHED-TTL:P3D
REFRESH-INTERVAL:P3D
CALSCALE:GREGORIAN
BEGIN:VEVENT
DTSTART:20201120T190000Z
DTEND:20201120T210000Z
X-MICROSOFT-CDO-ALLDAYEVENT:FALSE
SUMMARY:Fall Harvest Family Trip
DESCRIPTION:Come explore the outdoors at The Fresh Air Fund's Sharpe Reservation! Fall Harvest Family Trips give families the opportunity to connect to nature\, explore the outdoors and learn about the Hudson Highlands. Fall Harvest Trips included a guided hike\, a tour of our model farm\, and a hayride! Pre-registration is required. For COVID 19 safety every family will have their own instructor.
X-ALT-DESC;FMTTYPE=text/html:Come explore the outdoors at The Fresh Air Fund&#39\;s Sharpe Reservation! Fall Harvest Family Trips give families the opportunity to connect to nature\, explore the outdoors and learn about the Hudson Highlands. Fall Harvest Trips included a guided hike\, a tour of our model farm\, and a hayride! Pre-registration is required. For COVID 19 safety every family will have their own instructor.
LOCATION:The Sharpe Reservation\, 436 Van Wyck Lake Road\, Fishkill NY 12524
UID:e.2770.10484501
SEQUENCE:3
DTSTAMP:20260421T210131Z
URL:https://business.dcrcoc.org/events/details/fall-harvest-family-trip-10484501
END:VEVENT

END:VCALENDAR
