BEGIN:VCALENDAR
VERSION:2.0
PRODID:-//ChamberMaster//Event Calendar 2.0//EN
METHOD:PUBLISH
X-PUBLISHED-TTL:P3D
REFRESH-INTERVAL:P3D
CALSCALE:GREGORIAN
BEGIN:VEVENT
DTSTART:20180415T130000Z
DTEND:20180415T180000Z
X-MICROSOFT-CDO-ALLDAYEVENT:FALSE
SUMMARY:Family Event: Walk/Run/Brunch
DESCRIPTION:Join us for a Family Event featuring an 8 Mile Run\, 5K Walk/Run\, Kids Fun Run\, and a delicious brunch! \n\n\n\nDon't want to walk or run? That's ok! Join us just for brunch!\n\n\n\nFor more information or to register\, click here.
X-ALT-DESC;FMTTYPE=text/html:Join us for a Family Event featuring an 8 Mile Run\, 5K Walk/Run\, Kids Fun Run\, and a delicious brunch!&nbsp\;<br />\n<br />\nDon&#39\;t want to walk or run? That&#39\;s ok! Join us just for brunch!<br />\n<br />\nFor more information or to register\, <a href="http://www.angelsoflighthudsonvalley.org/events">click here.</a>
LOCATION:Amenia Rail Trail and Monte's Kitchen\, Amenia
UID:e.2770.10476870
SEQUENCE:3
DTSTAMP:20260425T210454Z
URL:https://business.dcrcoc.org/events/details/family-event-walk-run-brunch-10476870
END:VEVENT

END:VCALENDAR
