BEGIN:VCALENDAR
VERSION:2.0
PRODID:-//ChamberMaster//Event Calendar 2.0//EN
METHOD:PUBLISH
X-PUBLISHED-TTL:P3D
REFRESH-INTERVAL:P3D
CALSCALE:GREGORIAN
BEGIN:VEVENT
DTSTART:20180908T160000Z
DTEND:20180908T200000Z
X-MICROSOFT-CDO-ALLDAYEVENT:FALSE
SUMMARY:Family Fun Day at Brookmeade Community
DESCRIPTION:The Brookmeade Family Fun Day is a SUPERHERO Themed event this year. Please join us for delicious BBQ\, Music\, Games\, Raffles and Prizes! Come Dress as your favorite Superhero! This is a free community event that starts at 12pm and ends at 4pm. At 3pm there will be an Elite Martial Arts Demo!
X-ALT-DESC;FMTTYPE=text/html:The Brookmeade Family Fun Day is a SUPERHERO Themed event this year. Please join us for delicious BBQ\, Music\, Games\, Raffles and Prizes! Come Dress as your favorite Superhero! This is a free community event that starts at 12pm and ends at 4pm. At 3pm there will be an Elite Martial Arts Demo!
LOCATION:46 Brookmeade Drive\, Rhinebeck NY 12572
UID:e.2770.10479668
SEQUENCE:3
DTSTAMP:20260425T131541Z
URL:https://business.dcrcoc.org/events/details/family-fun-day-at-brookmeade-community-10479668
END:VEVENT

END:VCALENDAR
