BEGIN:VCALENDAR
VERSION:2.0
PRODID:-//ChamberMaster//Event Calendar 2.0//EN
METHOD:PUBLISH
X-PUBLISHED-TTL:P3D
REFRESH-INTERVAL:P3D
CALSCALE:GREGORIAN
BEGIN:VEVENT
DTSTART:20190427T150000Z
DTEND:20190427T190000Z
X-MICROSOFT-CDO-ALLDAYEVENT:FALSE
SUMMARY:Family Photo Fun Day at Meadowbrook Farms
DESCRIPTION:Come check out local photographers and find out who you might use for your graduate\, your graduation\, prom goers\, wedding\, engagement photos or family photos even business headshots
X-ALT-DESC;FMTTYPE=text/html:Come check out local photographers and find out who you might use for your graduate\, your graduation\, prom goers\, wedding\, engagement photos or family photos even business headshots
LOCATION:Meadowbrook farms
UID:e.2770.10480494
SEQUENCE:3
DTSTAMP:20260423T062924Z
URL:https://business.dcrcoc.org/events/details/family-photo-fun-day-at-meadowbrook-farms-10480494
END:VEVENT

END:VCALENDAR
