BEGIN:VCALENDAR
VERSION:2.0
PRODID:-//ChamberMaster//Event Calendar 2.0//EN
METHOD:PUBLISH
X-PUBLISHED-TTL:P3D
REFRESH-INTERVAL:P3D
CALSCALE:GREGORIAN
BEGIN:VEVENT
DTSTART:20180426T213000Z
DTEND:20180427T010000Z
X-MICROSOFT-CDO-ALLDAYEVENT:FALSE
SUMMARY:Family Services 2018 Family of the Year Awards Dinner
DESCRIPTION:The Family of the Year Dinner is a well-attended annual event that recognizes the positive impact Family Services makes on individuals and families in our community. In addition we are honored to recognize two outstanding families who reflect the ideals of Family Services.
X-ALT-DESC;FMTTYPE=text/html:The Family of the Year Dinner is a well-attended annual event that recognizes the positive impact Family Services makes on individuals and families in our community. In addition we are honored to recognize two outstanding families who reflect the ideals of Family Services.
LOCATION:The Grandview \, 176 Rinaldi Blvd\, Poughkeepsie\, NY 12601
UID:e.2770.10475836
SEQUENCE:3
DTSTAMP:20260425T195439Z
URL:https://business.dcrcoc.org/events/details/family-services-2018-family-of-the-year-awards-dinner-10475836
END:VEVENT

END:VCALENDAR
