BEGIN:VCALENDAR
VERSION:2.0
PRODID:-//ChamberMaster//Event Calendar 2.0//EN
METHOD:PUBLISH
X-PUBLISHED-TTL:P3D
REFRESH-INTERVAL:P3D
CALSCALE:GREGORIAN
BEGIN:VEVENT
DTSTART:20180426T213000Z
DTEND:20180427T013000Z
X-MICROSOFT-CDO-ALLDAYEVENT:FALSE
SUMMARY:Family Services Family of the Year Awards Dinner
DESCRIPTION:Family Services invites you to join them as they recognize two outstanding families at the 2018 Family of the Year Awards Dinner which will take place at the Grandview on April 26th\, 2018. This year Family Services will honor Joseph & Maria Lepore with The Good Neighbor Award\; in recognition of their outstanding community service\, and will honor Jeff & Rona Feldman with The Quality of Life Award\; in recognition of their tremendous impact on the community. These two families embody the ideals of Family Services and have contributed immensely to our community. Please join in honoring them and in helping Family Services to continue our important mission to help families and individuals help themselves through direct services\, collaboration\, and advocacy.
X-ALT-DESC;FMTTYPE=text/html:Family Services invites you to join them as they recognize two outstanding families at the 2018 Family of the Year Awards Dinner which will take place at the Grandview on April 26th\, 2018. This year Family Services will honor Joseph &amp\; Maria Lepore with The Good Neighbor Award\; in recognition of their outstanding community service\, and will honor Jeff &amp\; Rona Feldman with The Quality of Life Award\; in recognition of their tremendous impact on the community. These two families embody the ideals of Family Services and have contributed immensely to our community. Please join in honoring them and in helping Family Services to continue our important mission to help families and individuals help themselves through direct services\, collaboration\, and advocacy.
LOCATION:The Grandview
UID:e.2770.10476697
SEQUENCE:3
DTSTAMP:20260425T195440Z
URL:https://business.dcrcoc.org/events/details/family-services-family-of-the-year-awards-dinner-10476697
END:VEVENT

END:VCALENDAR
