BEGIN:VCALENDAR
VERSION:2.0
PRODID:-//ChamberMaster//Event Calendar 2.0//EN
METHOD:PUBLISH
X-PUBLISHED-TTL:P3D
REFRESH-INTERVAL:P3D
CALSCALE:GREGORIAN
BEGIN:VEVENT
DTSTART:20180201T170000Z
DTEND:20180201T190000Z
X-MICROSOFT-CDO-ALLDAYEVENT:FALSE
SUMMARY:Family Services Report to the Community
DESCRIPTION:Each year\, Family Services hosts their Report to the Community luncheon\, an opportunity to share with the community how they are working to provide hope\, improve lives and strengthen community. The event also provides the opportunity to highlight agency successes of the past year as well as provide a glimpse into the year ahead. Family Services is proud to feature a presentation by Dr. Stephen Bavolek\, Ph.D\, at this year's Report to the Community Luncheon. Dr. Bavolek is a recognized leader in the fields of child abuse and neglect treatment and prevention as well as parenting education. Born and raised in Chicago\, Dr. Bavolek's professional background includes working with children who have emotional disturbance\, adolescents in schools and residential settings\, and children who have been abused and their parents in treatment programs.
X-ALT-DESC;FMTTYPE=text/html:Each year\, Family Services hosts their Report to the Community luncheon\, an opportunity to share with the community how they are working to provide hope\, improve lives and strengthen community. The event also provides the opportunity to highlight agency successes of the past year as well as provide a glimpse into the year ahead. Family Services is proud to feature a presentation by Dr. Stephen Bavolek\, Ph.D\, at this year&rsquo\;s Report to the Community Luncheon. Dr. Bavolek is a recognized leader in the fields of child abuse and neglect treatment and prevention as well as parenting education. Born and raised in Chicago\, Dr. Bavolek&rsquo\;s professional background includes working with children who have emotional disturbance\, adolescents in schools and residential settings\, and children who have been abused and their parents in treatment programs.
LOCATION:The Pougkeepsie Grand Hotel
UID:e.2770.10476696
SEQUENCE:3
DTSTAMP:20260425T232359Z
URL:https://business.dcrcoc.org/events/details/family-services-report-to-the-community-10476696
END:VEVENT

END:VCALENDAR
