BEGIN:VCALENDAR
VERSION:2.0
PRODID:-//ChamberMaster//Event Calendar 2.0//EN
METHOD:PUBLISH
X-PUBLISHED-TTL:P3D
REFRESH-INTERVAL:P3D
CALSCALE:GREGORIAN
BEGIN:VEVENT
DTSTART:20190504T130000Z
DTEND:20190504T190000Z
X-MICROSOFT-CDO-ALLDAYEVENT:FALSE
SUMMARY:Farm Fest & Plant Sale
DESCRIPTION:Help us celebrate our 20th Anniversary at the Farm Fest & Plant Sale! Enjoy live music\, food\, farm tours\, kids activities\, a craft farmer's market with local vendors\, and of course 100+ varieties of perennial and annual flowers\, herbs\, and vegetable starts. We hope you'll join us for this free\, family-friendly event! Farm Fest & Plant Sale Saturdays May 4 & 11\, 9am-3pm https://www.farmproject.org/farm-fest
X-ALT-DESC;FMTTYPE=text/html:Help us celebrate our 20th Anniversary at the Farm Fest &amp\; Plant Sale! Enjoy live music\, food\, farm tours\, kids activities\, a craft farmer&#39\;s market with local vendors\, and of course 100+ varieties of perennial and annual flowers\, herbs\, and vegetable starts. We hope you&#39\;ll join us for this free\, family-friendly event! Farm Fest &amp\; Plant Sale Saturdays May 4 &amp\; 11\, 9am-3pm https://www.farmproject.org/farm-fest
LOCATION:Poughkeepsie Farm Project 51 Vassar Farm Lane Poughkeepsie\, NY 12603
UID:e.2770.10480673
SEQUENCE:3
DTSTAMP:20260423T045608Z
URL:https://business.dcrcoc.org/events/details/farm-fest-plant-sale-10480673
END:VEVENT

END:VCALENDAR
