BEGIN:VCALENDAR
VERSION:2.0
PRODID:-//ChamberMaster//Event Calendar 2.0//EN
METHOD:PUBLISH
X-PUBLISHED-TTL:P3D
REFRESH-INTERVAL:P3D
CALSCALE:GREGORIAN
BEGIN:VEVENT
DTSTART:20190521T230000Z
DTEND:20190522T010000Z
X-MICROSOFT-CDO-ALLDAYEVENT:FALSE
SUMMARY:FCCUCC presents The Many in Concert
DESCRIPTION:An uncommon collective crafting music of healing & hope...songs that remind us we are loved and all belong.
X-ALT-DESC;FMTTYPE=text/html:An uncommon collective crafting music of healing &amp\; hope...songs that remind us we are loved and all belong.
LOCATION:First Congregational United Church of Christ 269 Mill Street Poughkeepsie
UID:e.2770.10480760
SEQUENCE:3
DTSTAMP:20260423T045318Z
URL:https://business.dcrcoc.org/events/details/fccucc-presents-the-many-in-concert-10480760
END:VEVENT

END:VCALENDAR
