BEGIN:VCALENDAR
VERSION:2.0
PRODID:-//ChamberMaster//Event Calendar 2.0//EN
METHOD:PUBLISH
X-PUBLISHED-TTL:P3D
REFRESH-INTERVAL:P3D
CALSCALE:GREGORIAN
BEGIN:VEVENT
DTSTART:20180315T160000Z
DTEND:20180318T160000Z
X-MICROSOFT-CDO-ALLDAYEVENT:FALSE
SUMMARY:FDR High School Spring Musical James and the Giant Peach
DESCRIPTION:Enjoy an evening with family at FDR High School's Spring musical James and the Giant Peach by Roald Dahl! Advance ticket purchase is $11 for adults and $5 students/seniors at: jamesandthegiantpeachfdr.weebly.com/ . Or\, purchase advance tickets in person @ The Shipping Place or Julian's Deli in Hyde Park\, NY. $15 cash for adults at the door. Show times are: 3/16 & 3/17 @ 7 pm\, Sunday matinee @ 2 pm. *3/15 @ 10:30 am free performance for SENIORS ONLY with a $6 lunch after the show.
X-ALT-DESC;FMTTYPE=text/html:Enjoy an evening with family at FDR High School&#39\;s Spring musical James and the Giant Peach by Roald Dahl! Advance ticket purchase is $11 for adults and $5 students/seniors at: jamesandthegiantpeachfdr.weebly.com/ . Or\, purchase advance tickets in person @ The Shipping Place or Julian&#39\;s Deli in Hyde Park\, NY. $15 cash for adults at the door. Show times are: 3/16 &amp\; 3/17 @ 7 pm\, Sunday matinee @ 2 pm. *3/15 @ 10:30 am free performance for SENIORS ONLY with a $6 lunch after the show.
LOCATION:FDR High School 156 South Cross Road Staatsburg\, NY 12580
UID:e.2770.10476879
SEQUENCE:3
DTSTAMP:20260425T210615Z
URL:https://business.dcrcoc.org/events/details/fdr-high-school-spring-musical-james-and-the-giant-peach-10476879
END:VEVENT

END:VCALENDAR
