BEGIN:VCALENDAR
VERSION:2.0
PRODID:-//ChamberMaster//Event Calendar 2.0//EN
METHOD:PUBLISH
X-PUBLISHED-TTL:P3D
REFRESH-INTERVAL:P3D
CALSCALE:GREGORIAN
BEGIN:VEVENT
DTSTART:20190220T123000Z
DTEND:20190220T140000Z
X-MICROSOFT-CDO-ALLDAYEVENT:FALSE
SUMMARY:February Contact Breakfast
DESCRIPTION:***Please note if you try to register after 5:00 PM on Tuesday\, February 19th you will NOT be on our registration list. Please report to the UNPAID Table when you arrive.\n\n\n\nMonthly Contact Breakfast\n\n\n\nFebruary's keynote speaker will be the Regional Director of Empire State Development\, Meghan Taylor. She will be discussing economic initiatives in the Hudson Valley for 2019 and beyond.\n\n\n\nAs you all know\, there are many people in need of our assistance. The Chamber's Ambassador committee has partnered with our Workforce Development Center to collect canned and dry goods at our Contact Breakfast. Your donations are greatly appreciated.\n\n\n\nSponsored by: Health Quest Heart and Vascular Services
X-ALT-DESC;FMTTYPE=text/html:<p><span style="text-align: left\; color: rgb(255\, 0\, 0)\; text-transform: none\; text-indent: 0px\; letter-spacing: normal\; font-size: 18px\; font-style: normal\; font-variant: normal\; font-weight: 400\; text-decoration: none\; word-spacing: 0px\; white-space: normal\; orphans: 2\; background-color: transparent\; -webkit-text-stroke-width: 0px\;"><span style="font-family: times new roman\;"><strong>***<span style="background: rgb(255\, 255\, 255)\;">Please note if&nbsp\;you try to register after 5:00 PM on Tuesday\, February 19th&nbsp\;you will NOT be on our registration list. Please report to the UNPAID Table when you arrive.</span></strong></span></span><br />\n<br />\n<span style="font-size: 14px\;"><span style="font-family: arial\;">Monthly Contact Breakfast</span></span><br />\n<br />\n<span style="color: rgb(0\, 0\, 0)\; font-family: Calibri\, sans-serif\; font-size: 14.66px\; caret-color: rgb(0\, 0\, 0)\; text-size-adjust: auto\;">February&#39\;s keynote speaker will be the Regional Director of Empire State Development\, Meghan Taylor. She will be discussing economic initiatives in the Hudson Valley for 2019 and beyond.</span><br />\n<br />\n<span style="font-size: 14px\;"><span style="font-family: arial\;"><strong style="color: rgb(51\, 51\, 51)\; font-family: sans-serif\, Arial\, Verdana\, &quot\;Trebuchet MS&quot\;\; font-size: 13px\; background-color: rgb(255\, 255\, 255)\;">As you all know\, there are many people in need of our assistance. The Chamber&#39\;s Ambassador committee has partnered with our Workforce Development Center to collect canned and dry goods at our Contact Breakfast. Your donations are greatly appreciated.</strong><br />\n<br />\n<strong style="color: rgb(51\, 51\, 51)\; font-family: sans-serif\, Arial\, Verdana\, &quot\;Trebuchet MS&quot\;\; font-size: 13px\; background-color: rgb(255\, 255\, 255)\;">Sponsored by: <a href="http://www.healthquest.org/hq/home.aspx">Health Quest Heart and Vascular Services</a></strong></span></span></p>\n
LOCATION:The Poughkeepsie Grand Hotel & Conference Center 40 Civic Center Plaza Poughkeepsie\, NY 12601
UID:e.2770.10479772
SEQUENCE:3
DTSTAMP:20260423T112148Z
URL:https://business.dcrcoc.org/events/details/february-contact-breakfast-02-20-2019-10479772
END:VEVENT

END:VCALENDAR
