BEGIN:VCALENDAR
VERSION:2.0
PRODID:-//ChamberMaster//Event Calendar 2.0//EN
METHOD:PUBLISH
X-PUBLISHED-TTL:P3D
REFRESH-INTERVAL:P3D
CALSCALE:GREGORIAN
BEGIN:VEVENT
DTSTART:20180221T123000Z
DTEND:20180221T140000Z
X-MICROSOFT-CDO-ALLDAYEVENT:FALSE
SUMMARY:February Contact Breakfast
DESCRIPTION:Monthly contact breakfast featuring a keynote address from Vassar College President Elizabeth Bradley.\n\n\n\nSponsored by: The Heart Center/Health Quest\n\n\n\nAs you all know\, there are many people in need of our assistance. The Chamber's Ambassador committee has partnered with our Workforce Development Center to collect canned and dry goods at our Contact Breakfast. Your donations are greatly appreciated.\np.p1 {margin: 0.0px 0.0px 0.0px 0.0px\; font: 15.0px Calibri}\n\np.p1 {margin: 0.0px 0.0px 0.0px 0.0px\; font: 15.0px Calibri}
X-ALT-DESC;FMTTYPE=text/html:<p>Monthly contact breakfast featuring a keynote address from Vassar College President Elizabeth Bradley.<br />\n<br />\nSponsored by: <a href="https://www.healthquest.org/hq/home.aspx">The Heart Center/Health Quest</a><br />\n<br />\n<strong style="color: rgb(51\, 51\, 51)\; font-family: sans-serif\, Arial\, Verdana\, &quot\;Trebuchet MS&quot\;\; font-size: 13px\; background-color: rgb(255\, 255\, 255)\;"><span style="font-family: Arial\, Helvetica\, &quot\;MS Sans Serif&quot\;\, sans-serif\;">As you all know\, there are many people in need of our assistance. The Chamber&#39\;s Ambassador committee has partnered with our Workforce Development Center to collect canned and dry goods at our Contact Breakfast. Your donations are greatly appreciated.</span></strong></p>\n<style type="text/css">p.p1 {margin: 0.0px 0.0px 0.0px 0.0px\; font: 15.0px Calibri}\n</style>\n<style type="text/css">p.p1 {margin: 0.0px 0.0px 0.0px 0.0px\; font: 15.0px Calibri}\n</style>\n
LOCATION:The Poughkeepsie Grand Hotel & Conference Center 40 Civic Center Plaza Poughkeepsie\, NY 12601
UID:e.2770.10476411
SEQUENCE:3
DTSTAMP:20260425T222025Z
URL:https://business.dcrcoc.org/events/details/february-contact-breakfast-10476411
END:VEVENT

END:VCALENDAR
