BEGIN:VCALENDAR
VERSION:2.0
PRODID:-//ChamberMaster//Event Calendar 2.0//EN
METHOD:PUBLISH
X-PUBLISHED-TTL:P3D
REFRESH-INTERVAL:P3D
CALSCALE:GREGORIAN
BEGIN:VEVENT
DTSTART:20200219T123000Z
DTEND:20200219T140000Z
X-MICROSOFT-CDO-ALLDAYEVENT:FALSE
SUMMARY:February Contact Breakfast
DESCRIPTION:***Please note if you try to register after 4:00 PM on Tuesday\, February 18 you will NOT be on our registration list. Please report to the UNPAID Table when you arrive. \n\n\n\nMonthly Contact Breakfast featuring a presentation by Congressman Antonio Delgado.\n\n\n\nAlso\, in honor of Heart Month\, The Heart Center will provide blood pressure screenings and give body mass index scores from 7:15 a.m. to 7:45 a.m. and 8:30 a.m. to 9:15 a.m. Drop into the bridal suite for a quick 5-minute heart health assessment!\n\n\n\nAs you all know\, there are many people in need of our assistance. The Chamber's Ambassador committee has partnered with our Workforce Development Center to collect canned and dry goods at our Contact Breakfast. Your donations are greatly appreciated.\n\n\n\nSponsored by: Vassar Brothers Medical Center\, now part of Nuvance Health
X-ALT-DESC;FMTTYPE=text/html:<p style="margin: 0px\;"><span style="font-size:16px\;"><span style="font-family:tahoma\;"><strong><span style="background: white\; margin: 0px\; color: red\;">***Please note if&nbsp\;you try to register after 4:00 PM on Tuesday\, February 18 you will NOT be on our registration list. Please report to the UNPAID Table when you arrive.&nbsp\;</span></strong></span></span></p>\n\n<p><br />\n<span style="font-size:16px\;"><span style="font-family:tahoma\;">Monthly Contact Breakfast featuring a presentation by Congressman Antonio Delgado.<br />\n<br />\nAlso\, in honor of Heart Month\, The Heart Center will provide blood pressure screenings and give body mass index scores from 7:15 a.m. to 7:45 a.m. and 8:30 a.m. to 9:15 a.m. Drop into the bridal suite for a quick 5-minute heart health assessment!<br />\n<br />\n<strong style="color: rgb(51\, 51\, 51)\; font-family: sans-serif\, Arial\, Verdana\, &quot\;Trebuchet MS&quot\;\; font-size: 13px\; background-color: rgb(255\, 255\, 255)\;">As you all know\, there are many people in need of our assistance. The Chamber&#39\;s Ambassador committee has partnered with our Workforce Development Center to collect canned and dry goods at our Contact Breakfast. Your donations are greatly appreciated.</strong><br />\n<br />\n<strong style="color: rgb(51\, 51\, 51)\; font-family: sans-serif\, Arial\, Verdana\, &quot\;Trebuchet MS&quot\;\; font-size: 13px\; background-color: rgb(255\, 255\, 255)\;">Sponsored by: Vassar Brothers Medical Center\, now part of&nbsp\;<a href="https://nuvancehealth.org/"><span style="color:#0000FF\;">Nuvance Health</span></a></strong></span></span></p>\n
LOCATION:The Poughkeepsie Grand Hotel & Conference Center 40 Civic Center Plaza Poughkeepsie\, NY 12601
UID:e.2770.10481433
SEQUENCE:3
DTSTAMP:20260422T120654Z
URL:https://business.dcrcoc.org/events/details/february-contact-breakfast-10481433
END:VEVENT

END:VCALENDAR
