BEGIN:VCALENDAR
VERSION:2.0
PRODID:-//ChamberMaster//Event Calendar 2.0//EN
METHOD:PUBLISH
X-PUBLISHED-TTL:P3D
REFRESH-INTERVAL:P3D
CALSCALE:GREGORIAN
BEGIN:VEVENT
DTSTART:20210217T130000Z
DTEND:20210217T143000Z
X-MICROSOFT-CDO-ALLDAYEVENT:FALSE
SUMMARY:February Contact Breakfast
DESCRIPTION:This event will be held on Zoom and In Person.\n\nRegistration is required as space is limited. \n\n\n\n\n\nMonthly Contact Breakfast featuring a presentation from Charles Freni\, President and CEO of Central Hudson Gas & Electric Corp.\, on clean energy policy and its effects on the regional economy.\n\n\n\nThe Chamber's February Breakfast will be held with as many as 50 people safely attending the event live at the Poughkeepsie Grand Hotel and Conference Center\, and others able to view the event on Zoom and Facebook.\n\n\n\nRegistration to attend live is available to Chamber members only\, first come first served\, and a light plated breakfast will be served. Payment of $25 per person must be made in advance\, and walk-ins will not be able to be accommodated.\n\n\n\nFor questions\, please email Chelsea@dcrcoc.org or you may leave a message at 845-454-1700 ext. 1006.\n\n\n\nTo Register for Zoom\, Click Here\n\n\n\nThank you to our sponsors: New York State Bridge Authority and Stenger\, Diamond & Glass\, LLP - SDG Law
X-ALT-DESC;FMTTYPE=text/html:<p style="margin: 0px\;"><br />\n<span style="background-image: initial\; background-position: initial\; background-size: initial\; background-repeat: initial\; background-attachment: initial\; background-origin: initial\; background-clip: initial\;"><span style="color: black\;"><font face="times new roman"><span style="font-size: 18px\; background-color: rgb(255\, 255\, 255)\;"><b>This event will be held on Zoom and In Person.<br />\nRegistration is required as space is limited.&nbsp\;</b></span></font></span></span><br />\n<br />\n<br />\n<span style="font-size:18px\;"><span style="font-family:times new roman\;"><span style="color:#000000\;"><strong>Monthly Contact Breakfast featuring&nbsp\;a presentation from Charles Freni\, President and CEO of Central Hudson Gas &amp\; Electric Corp.\, on clean energy policy and its effects on the regional economy.</strong></span></span></span><br />\n<br />\n<span style="font-size:16px\;"><span style="font-family:times new roman\;"><em><span style="color:#000000\;">The Chamber&#39\;s February Breakfast will be held with as many as 50 people safely attending the event live at the Poughkeepsie Grand Hotel and Conference Center\, and others able to view the event on Zoom and Facebook.<br />\n<br />\nRegistration to attend live is available to <strong>Chamber members only</strong>\, first come first served\, and a light plated breakfast will be served. Payment of $25 per person must be made in advance\, and walk-ins will not be able to be accommodated.</span></em><br />\n<br />\n<span style="color:#000000\;">For questions\, please email </span><a href="mailto:Chelsea@dcrcoc.org"><span style="color:#0000FF\;">Chelsea@dcrcoc.org</span></a><span style="color:#000000\;"> or you may leave a message at 845-454-1700 ext. 1006.</span></span></span><br />\n<br />\n<span style="font-size:18px\;"><span style="font-family:times new roman\;"><span style="box-sizing: border-box\; font-weight: bolder\;"><span style="color:#000000\;">To Register for Zoom\, Click</span>&nbsp\;<u><strong><a href="https://dcrcoc-org.zoom.us/webinar/register/WN_q4ighMAbSPiISTU3AjuKoQ" style="color: rgb(0\, 86\, 150)\; box-sizing: border-box\; background-color: transparent\; text-decoration-line: none\; overflow-wrap: break-word\; outline: 0px\;" target="_blank"><span style="box-sizing: border-box\; color: rgb(0\, 0\, 255)\;">Here</span></a></strong></u></span><br />\n<br />\n<span style="color:#000000\;"><strong>Thank you to our sponsors: </strong></span><strong><a href="http://www.nysba.state.ny.us/" target="_blank"><span style="color:#0000FF\;">New York State Bridge Authority</span></a><span style="color:#0000FF\;">&nbsp\;</span></strong><span style="color:#000000\;">and&nbsp\;</span></span><a href="http://sdglaw.com/" target="_blank"><span style="color:#0000FF\;"><strong><span style="font-family:times new roman\;">Stenger\, Diamond &amp\; Glass\, LLP - SDG Law</span></strong></span></a></span></p>\n
LOCATION:Zoom & The Poughkeepsie Grand Hotel 40 Civic Center Plaza Poughkeepsie
UID:e.2770.10484487
SEQUENCE:3
DTSTAMP:20260421T161150Z
URL:https://business.dcrcoc.org/events/details/february-contact-breakfast-10484487
END:VEVENT

END:VCALENDAR
