BEGIN:VCALENDAR
VERSION:2.0
PRODID:-//ChamberMaster//Event Calendar 2.0//EN
METHOD:PUBLISH
X-PUBLISHED-TTL:P3D
REFRESH-INTERVAL:P3D
CALSCALE:GREGORIAN
BEGIN:VEVENT
DTSTART:20171007T150000Z
DTEND:20171007T190000Z
X-MICROSOFT-CDO-ALLDAYEVENT:FALSE
SUMMARY:Feeding the Hudson Valley
DESCRIPTION:HELP STOP FOOD WASTE! Enjoy a FREE lunch at the Walkway Over the Hudson made from top quality produce that would have otherwise gone to waste. Learn more about Feeding the Hudson Valley's efforts to reduce food waste and provide more food to people who are hungry. For more information or to learn how you can help please contact Rich at rschiafo@hudsonvalleyrc.org\, 845-564-4075 ext. 213.
X-ALT-DESC;FMTTYPE=text/html:HELP STOP FOOD WASTE! Enjoy a FREE lunch at the Walkway Over the Hudson made from top quality produce that would have otherwise gone to waste. Learn more about Feeding the Hudson Valley&rsquo\;s efforts to reduce food waste and provide more food to people who are hungry. For more information or to learn how you can help please contact Rich at rschiafo@hudsonvalleyrc.org\, 845-564-4075 ext. 213.
LOCATION:Walkway Over the Hudson\, Poughkeepsie\, NY
UID:e.2770.10476322
SEQUENCE:3
DTSTAMP:20260426T033304Z
URL:https://business.dcrcoc.org/events/details/feeding-the-hudson-valley-10476322
END:VEVENT

END:VCALENDAR
