BEGIN:VCALENDAR
VERSION:2.0
PRODID:-//ChamberMaster//Event Calendar 2.0//EN
METHOD:PUBLISH
X-PUBLISHED-TTL:P3D
REFRESH-INTERVAL:P3D
CALSCALE:GREGORIAN
BEGIN:VEVENT
DTSTART:20180526T130000Z
DTEND:20180526T200000Z
X-MICROSOFT-CDO-ALLDAYEVENT:FALSE
SUMMARY:Figure Model Workshop
DESCRIPTION:Figure Model Workshop- Male and Female Models (ALL DAY)\n\n\n\nMale & Female Model Together\n\n-----------------------------------------------------\n\nOur models will start each day with short poses and work up to a long pose\, giving you the time to develop a more detailed work should you wish. \n\nThis is an opportunity to work with a male and female model as they pose together in natural and intimate relationships between two figures. \n\n-----------------------------------------------------\n\nReserve your spot TODAY! \n\nCall (845) 367-3108 or (845) 471-2550\n\nEmail: info@barrettartcenter.org
X-ALT-DESC;FMTTYPE=text/html:Figure Model Workshop- Male and Female Models (ALL DAY)<br />\n<br />\n<u><strong><span style="color:rgb(75\, 79\, 86)\; font-family:system-ui\,-apple-system\,system-ui\,.sfnstext-regular\,sans-serif\; font-size:14px">Male &amp\; Female Model Together</span></strong></u><br />\n<span style="color:rgb(75\, 79\, 86)\; font-family:system-ui\,-apple-system\,system-ui\,.sfnstext-regular\,sans-serif\; font-size:14px">--------------------------</span><span style="color:rgb(75\, 79\, 86)\; font-family:system-ui\,-apple-system\,system-ui\,.sfnstext-regular\,sans-serif\; font-size:14px">--------------------------</span><span style="color:rgb(75\, 79\, 86)\; font-family:system-ui\,-apple-system\,system-ui\,.sfnstext-regular\,sans-serif\; font-size:14px">-</span><br />\n<span style="color:rgb(75\, 79\, 86)\; font-family:system-ui\,-apple-system\,system-ui\,.sfnstext-regular\,sans-serif\; font-size:14px">Our models will start each day with short poses and work up to a long pose\, giving you the time to develop a more detailed work should you wish.&nbsp\;</span><br />\n<span style="color:rgb(75\, 79\, 86)\; font-family:system-ui\,-apple-system\,system-ui\,.sfnstext-regular\,sans-serif\; font-size:14px">This is an opportunity to work with a male and female model as they pose together in natural and intimate relationships between two figures.&nbsp\;</span><br />\n<span style="color:rgb(75\, 79\, 86)\; font-family:system-ui\,-apple-system\,system-ui\,.sfnstext-regular\,sans-serif\; font-size:14px">--------------------------</span><span style="color:rgb(75\, 79\, 86)\; font-family:system-ui\,-apple-system\,system-ui\,.sfnstext-regular\,sans-serif\; font-size:14px">--------------------------</span><span style="color:rgb(75\, 79\, 86)\; font-family:system-ui\,-apple-system\,system-ui\,.sfnstext-regular\,sans-serif\; font-size:14px">-</span><br />\n<span style="color:rgb(75\, 79\, 86)\; font-family:system-ui\,-apple-system\,system-ui\,.sfnstext-regular\,sans-serif\; font-size:14px">Reserve your spot&nbsp\;<strong>TODAY</strong>!&nbsp\;</span><br />\n<strong><span style="color:rgb(75\, 79\, 86)\; font-family:system-ui\,-apple-system\,system-ui\,.sfnstext-regular\,sans-serif\; font-size:14px">Call (845) 367-3108 or (845) 471-2550</span><br />\n<span style="color:rgb(75\, 79\, 86)\; font-family:system-ui\,-apple-system\,system-ui\,.sfnstext-regular\,sans-serif\; font-size:14px">Email: info@barrettartcenter.org</span></strong>
LOCATION:Barrett Art Center 55 Noxon Street Poughkeepsie\, NY 12601
UID:e.2770.10477821
SEQUENCE:3
DTSTAMP:20260425T181650Z
URL:https://business.dcrcoc.org/events/details/figure-model-workshop-10477821
END:VEVENT

END:VCALENDAR
