BEGIN:VCALENDAR
VERSION:2.0
PRODID:-//ChamberMaster//Event Calendar 2.0//EN
METHOD:PUBLISH
X-PUBLISHED-TTL:P3D
REFRESH-INTERVAL:P3D
CALSCALE:GREGORIAN
BEGIN:VEVENT
DTSTART:20171118T000000Z
DTEND:20171118T040000Z
X-MICROSOFT-CDO-ALLDAYEVENT:FALSE
SUMMARY:Fill Chill: Food Drive Party
DESCRIPTION:Party with a purpose at Chill Wine Bar in Beacon on Nov. 17th!\n\nBring non-perishable food items to donate to Hudson Valley Community Services' food closets to help feed local low-income people who live with chronic illnesses. Raffles and door prizes. Plus\, Chill will donate a percentage of all sales that evening.
X-ALT-DESC;FMTTYPE=text/html:Party with a purpose at Chill Wine Bar in Beacon on Nov. 17th!<br />\nBring non-perishable food items to donate to Hudson Valley Community Services&#39\; food closets to help feed local low-income people who live with chronic illnesses. Raffles and door prizes. Plus\, Chill will donate a percentage of all sales that evening.
LOCATION:Chill Wine Bar\, 173 Main St.\, Beacon NY 12508
UID:e.2770.10476354
SEQUENCE:3
DTSTAMP:20260426T033527Z
URL:https://business.dcrcoc.org/events/details/fill-chill-food-drive-party-10476354
END:VEVENT

END:VCALENDAR
