BEGIN:VCALENDAR
VERSION:2.0
PRODID:-//ChamberMaster//Event Calendar 2.0//EN
METHOD:PUBLISH
X-PUBLISHED-TTL:P3D
REFRESH-INTERVAL:P3D
CALSCALE:GREGORIAN
BEGIN:VEVENT
DTSTART:20180313T220000Z
DTEND:20180313T233000Z
X-MICROSOFT-CDO-ALLDAYEVENT:FALSE
SUMMARY:Finance For The Female Mind
DESCRIPTION:What You Will Learn!\n\n	What kind of investor you are.\n	Why diversification is important.\n	How to analyze mutual funds and ETFs.\n	How to allocate your investment portoflio.\n	How to be more confident in making investment decisions.\n\n\nPresented By:\n\nMaria Sciuto\n\nCertified Financial Planner Fort Capital LLC.\n\nMaria provides financial planning advice and technical service to the firms' clients. Her expertise includes general financial planning\, investment management and portfolio design\, college planning\, risk management analysis\, and client relationship management. She serves clients in the Greater Hudson Valley Region and Upstate New York. Maria earned a Masters in Finance from Baruch College's Zicklin School of Business Executive Program and a BA in Economics from Hunter College\, City University of New York. Maria's mission is to empower her clients to achieve their financial goals.
X-ALT-DESC;FMTTYPE=text/html:<span style="font-size:20px"><strong>What You Will Learn!</strong></span>\n<ul>\n	<li>What kind of investor you are.</li>\n	<li>Why diversification is important.</li>\n	<li>How to analyze mutual funds and ETFs.</li>\n	<li>How to allocate your investment portoflio.</li>\n	<li>How to be more confident in making investment decisions.</li>\n</ul>\n\n<p><span style="font-size:16px">Presented By:</span></p>\n\n<p><strong><span style="font-size:16px">Maria Sciuto</span></strong><br />\n<em>Certified Financial Planner Fort Capital LLC.</em><br />\nMaria provides financial planning advice and technical service to the firms&rsquo\; clients. Her expertise includes general financial planning\, investment management and portfolio design\, college planning\, risk management analysis\, and client relationship management. She serves clients in the Greater Hudson Valley Region and Upstate New York. Maria earned a Masters in Finance from Baruch College&rsquo\;s Zicklin School of Business Executive Program and a BA in Economics from Hunter College\, City University of New York. Maria&rsquo\;s mission is to empower her clients to achieve their financial goals.</p>\n
LOCATION:Think Dutchess Alliance for Business 3 Neptune Road Suite A21 Poughkeepsie\, NY 12601
UID:e.2770.10476603
SEQUENCE:3
DTSTAMP:20260425T210351Z
URL:https://business.dcrcoc.org/events/details/finance-for-the-female-mind-10476603
END:VEVENT

END:VCALENDAR
