BEGIN:VCALENDAR
VERSION:2.0
PRODID:-//ChamberMaster//Event Calendar 2.0//EN
METHOD:PUBLISH
X-PUBLISHED-TTL:P3D
REFRESH-INTERVAL:P3D
CALSCALE:GREGORIAN
BEGIN:VEVENT
DTSTART:20180405T130000Z
DTEND:20180405T150000Z
X-MICROSOFT-CDO-ALLDAYEVENT:FALSE
SUMMARY:Financial Literacy Workshop
DESCRIPTION:United Way of the Dutchess-Orange Region and Rhinebeck Bank are hosting a free Financial Literacy Workshop lead by John Viola and Donna Harris of the U.S. Postal Inspection Service. As experts in the field\, they will be focusing on protecting your finances from identity theft and financial scams. The workshop is April 5th at the Boardman Road Library (141 Boardman Rd\, Poughkeepsie) from 9am-11am. Light refreshments will be served. The event is free attend\, but we ask that participants register in advance at www.uwdor.org/register-april52018
X-ALT-DESC;FMTTYPE=text/html:United Way of the Dutchess-Orange Region and Rhinebeck Bank are hosting a free Financial Literacy Workshop lead by John Viola and Donna Harris of the U.S. Postal Inspection Service. As experts in the field\, they will be focusing on protecting your finances from identity theft and financial scams. The workshop is April 5th at the Boardman Road Library (141 Boardman Rd\, Poughkeepsie) from 9am-11am. Light refreshments will be served. The event is free attend\, but we ask that participants register in advance at www.uwdor.org/register-april52018
LOCATION:Boardman Road Library 141 Boardman Rd. Poughkeepsie\, NY 12603
UID:e.2770.10477172
SEQUENCE:3
DTSTAMP:20260425T210254Z
URL:https://business.dcrcoc.org/events/details/financial-literacy-workshop-10477172
END:VEVENT

END:VCALENDAR
