BEGIN:VCALENDAR
VERSION:2.0
PRODID:-//ChamberMaster//Event Calendar 2.0//EN
METHOD:PUBLISH
X-PUBLISHED-TTL:P3D
REFRESH-INTERVAL:P3D
CALSCALE:GREGORIAN
BEGIN:VEVENT
DTSTART:20200618T140000Z
DTEND:20200618T153000Z
X-MICROSOFT-CDO-ALLDAYEVENT:FALSE
SUMMARY:Finanzas Personales en Épocas de Crisis
DESCRIPTION:En Este Taller Gratuito Aprender : \n\n\n	Manejo de finanzas en tiempos de crisis\n	C mo establecer metas financieras\n	Elaborar un presupuesto\n	Establecer relaciones con los bancos\n	Financiamiento y reducci n de deudas\n	C mo aumentar y mantener un buen puntaje de cr dito
X-ALT-DESC;FMTTYPE=text/html:<p><span style="font-size:16px"><strong>En Este Taller Gratuito Aprender&aacute\;:</strong>&nbsp\;</span></p>\n\n<ul>\n	<li><span style="font-size:16px">Manejo de finanzas en tiempos de crisis</span></li>\n	<li><span style="font-size:16px">C&oacute\;mo establecer metas financieras</span></li>\n	<li><span style="font-size:16px">Elaborar un presupuesto</span></li>\n	<li><span style="font-size:16px">Establecer relaciones con los bancos</span></li>\n	<li><span style="font-size:16px">Financiamiento y reducci&oacute\;n de deudas</span></li>\n	<li><span style="font-size:16px">C&oacute\;mo aumentar y mantener un buen puntaje de cr&eacute\;dito</span></li>\n</ul>\n
LOCATION:Seminario Web
UID:e.2770.10483310
SEQUENCE:3
DTSTAMP:20260422T045226Z
URL:https://business.dcrcoc.org/events/details/finanzas-personales-en-&#233;pocas-de-crisis-10483310
END:VEVENT

END:VCALENDAR
