BEGIN:VCALENDAR
VERSION:2.0
PRODID:-//ChamberMaster//Event Calendar 2.0//EN
METHOD:PUBLISH
X-PUBLISHED-TTL:P3D
REFRESH-INTERVAL:P3D
CALSCALE:GREGORIAN
BEGIN:VEVENT
DTSTART:20191124T190000Z
DTEND:20191124T210000Z
X-MICROSOFT-CDO-ALLDAYEVENT:FALSE
SUMMARY:Finding Hope After Chaos
DESCRIPTION:On Sunday\, November 24\, Paula's Public House in Poughkeepsie will host a special event to benefit the American Red Cross of the Mid-Hudson Valley. Dr. James Halpern   Disaster Mental Health expert\, a longtime Red Cross volunteer\, Board of Director's member  will speak at the event\, sharing his disaster response experiences in the aftermath of events including Hurricanes Katrina and Sandy\, the 9/11 terrorist attacks\, and the Sandy Hook Elementary School shooting. There will be live music and each attendee will receive a complimentary glass of wine or beer\, and 15% of all proceeds from any additional purchases made at the Pub that day will be donated to the American Red Cross of the Mid-Hudson Valley.
X-ALT-DESC;FMTTYPE=text/html:On Sunday\, November 24\, Paula&#39\;s Public House in Poughkeepsie will host a special event to benefit the American Red Cross of the Mid-Hudson Valley. Dr. James Halpern &ndash\; Disaster Mental Health expert\, a longtime Red Cross volunteer\, Board of Director&rsquo\;s member&ndash\; will speak at the event\, sharing his disaster response experiences in the aftermath of events including Hurricanes Katrina and Sandy\, the 9/11 terrorist attacks\, and the Sandy Hook Elementary School shooting. There will be live music and each attendee will receive a complimentary glass of wine or beer\, and 15% of all proceeds from any additional purchases made at the Pub that day will be donated to the American Red Cross of the Mid-Hudson Valley.
LOCATION:Paula's Public House- 2186 New Hackensack Road\, Poughkeepsie\, New York
UID:e.2770.10482587
SEQUENCE:3
DTSTAMP:20260422T170837Z
URL:https://business.dcrcoc.org/events/details/finding-hope-after-chaos-10482587
END:VEVENT

END:VCALENDAR
