BEGIN:VCALENDAR
VERSION:2.0
PRODID:-//ChamberMaster//Event Calendar 2.0//EN
METHOD:PUBLISH
X-PUBLISHED-TTL:P3D
REFRESH-INTERVAL:P3D
CALSCALE:GREGORIAN
BEGIN:VEVENT
DTSTART:20190606T223000Z
DTEND:20190606T233000Z
X-MICROSOFT-CDO-ALLDAYEVENT:FALSE
SUMMARY:First Time Home Buyer Seminar
DESCRIPTION:Did you know you can receive up to $15\,000 towards your first home? Come learn about the process of buying a home & programs available to first time home buyers. Presented by: Sean Dykhouse - MHV Mortgage Expert
X-ALT-DESC;FMTTYPE=text/html:Did you know you can receive up to $15\,000 towards your first home? Come learn about the process of buying a home &amp\; programs available to first time home buyers. Presented by: Sean Dykhouse - MHV Mortgage Expert
LOCATION:Mid-Hudson Valley Federal Credit Union's Highland Branch (5 Wingate Way\, Highland\, NY 12528)
UID:e.2770.10480833
SEQUENCE:3
DTSTAMP:20260423T031154Z
URL:https://business.dcrcoc.org/events/details/first-time-home-buyer-seminar-06-06-2019-10480833
END:VEVENT

END:VCALENDAR
