BEGIN:VCALENDAR
VERSION:2.0
PRODID:-//ChamberMaster//Event Calendar 2.0//EN
METHOD:PUBLISH
X-PUBLISHED-TTL:P3D
REFRESH-INTERVAL:P3D
CALSCALE:GREGORIAN
BEGIN:VEVENT
DTSTART:20190423T221500Z
DTEND:20190423T231500Z
X-MICROSOFT-CDO-ALLDAYEVENT:FALSE
SUMMARY:First Time Home Buyer Seminar
DESCRIPTION:Did you know you could receive up to $15\,000 towards your first home? Come learn about the process of buying a home & programs available to first time home buyers.
X-ALT-DESC;FMTTYPE=text/html:Did you know you could receive up to $15\,000 towards your first home? Come learn about the process of buying a home &amp\; programs available to first time home buyers.
LOCATION:21 Burnett Blvd.\, Poughkeepsie\, NY 12603 (Mid-Hudson Valley Federal Credit Union)
UID:e.2770.10480683
SEQUENCE:3
DTSTAMP:20260423T062546Z
URL:https://business.dcrcoc.org/events/details/first-time-home-buyer-seminar-10480683
END:VEVENT

END:VCALENDAR
