BEGIN:VCALENDAR
VERSION:2.0
PRODID:-//ChamberMaster//Event Calendar 2.0//EN
METHOD:PUBLISH
X-PUBLISHED-TTL:P3D
REFRESH-INTERVAL:P3D
CALSCALE:GREGORIAN
BEGIN:VEVENT
DTSTART:20181017T213000Z
DTEND:20181017T233000Z
X-MICROSOFT-CDO-ALLDAYEVENT:FALSE
SUMMARY:First-Time Homebuyers Seminar with Tompkins Mahopac Bank and Hudson River Housing\, Inc.
DESCRIPTION:Join Tompkins Mahopac Bank and Hudson River Housing\, Inc. for an informative seminar to help first-time homebuyers navigate the various programs and services available to help start a home! Learn about the buying process from start to finish\, special first-time homebuyer products and services\, and more. \n\n\n\nRefreshments will be served and attendees will receive a gift item.\n\nEnter to win* a gift package featuring first-time homeowner essentials\,\n\nincluding a tool kit\, picture hangers\, gift cards\, and more!
X-ALT-DESC;FMTTYPE=text/html:<span style="font-size:14px\;"><span style="color: rgb(61\, 61\, 61)\; font-family: arial\, helvetica\, sans-serif\;">Join Tompkins Mahopac Bank and Hudson River Housing\, Inc. for an informative seminar to help first-time homebuyers navigate the various programs and services available to help start a home! Learn about the buying process from start to finish\, special first-time homebuyer products and services\, and more.&nbsp\;</span></span><br />\n<br />\n<span style="color:rgb(61\, 61\, 61)\; font-family:arial\,helvetica\,sans-serif\; font-size:11px">Refreshments will be served and attendees will receive a gift item.</span><br />\n<span style="color:rgb(61\, 61\, 61)\; font-family:arial\,helvetica\,sans-serif\; font-size:11px">Enter to win* a gift package featuring first-time homeowner essentials\,</span><br />\n<span style="color:rgb(61\, 61\, 61)\; font-family:arial\,helvetica\,sans-serif\; font-size:11px">including a tool kit\, picture hangers\, gift cards\, and more!</span>
LOCATION:Adriance Memorial Library 93 Market Street Poughkeepsie\, NY
UID:e.2770.10479713
SEQUENCE:3
DTSTAMP:20260425T115433Z
URL:https://business.dcrcoc.org/events/details/first-time-homebuyers-seminar-with-tompkins-mahopac-bank-and-hudson-river-housing-inc-10479713
END:VEVENT

END:VCALENDAR
