BEGIN:VCALENDAR
VERSION:2.0
PRODID:-//ChamberMaster//Event Calendar 2.0//EN
METHOD:PUBLISH
X-PUBLISHED-TTL:P3D
REFRESH-INTERVAL:P3D
CALSCALE:GREGORIAN
BEGIN:VEVENT
DTSTART:20180511T130000Z
DTEND:20180512T160000Z
X-MICROSOFT-CDO-ALLDAYEVENT:FALSE
SUMMARY:Fishkill United Methodist Women's Rummage Sale
DESCRIPTION:Rummage Sale  Fishkill United Methodist Church\, 38 Broad St.\, Fishkill. Large selection of clothing\, housewares\, books and toys. Friday May 11\, 9 a.m.-5 p.m. and Saturday May 12\, 9 a.m.   12 Noon (fill a bag for $3). All proceeds to missions. 845-896-9810
X-ALT-DESC;FMTTYPE=text/html:Rummage Sale &mdash\;Fishkill United Methodist Church\, 38 Broad St.\, Fishkill. Large selection of clothing\, housewares\, books and toys. Friday May 11\, 9 a.m.-5 p.m. and Saturday May 12\, 9 a.m. &ndash\; 12 Noon (fill a bag for $3). All proceeds to missions. 845-896-9810
LOCATION:Fishkill United Methodist Church
UID:e.2770.10477648
SEQUENCE:3
DTSTAMP:20260425T182003Z
URL:https://business.dcrcoc.org/events/details/fishkill-united-methodist-women-s-rummage-sale-10477648
END:VEVENT

END:VCALENDAR
