BEGIN:VCALENDAR
VERSION:2.0
PRODID:-//ChamberMaster//Event Calendar 2.0//EN
METHOD:PUBLISH
X-PUBLISHED-TTL:P3D
REFRESH-INTERVAL:P3D
CALSCALE:GREGORIAN
BEGIN:VEVENT
DTSTART:20180906T230000Z
DTEND:20180907T000000Z
X-MICROSOFT-CDO-ALLDAYEVENT:FALSE
SUMMARY:Fitness Fusion: Student Athlete Training
DESCRIPTION:For Student Athletes age 10+ looking to take their game to the next level\, make the team\, compete in college\, prevent injury\, improve coordination\, strength\, speed & agility. Whether they are in season or pre season\, our former DII All American & scholarship trainers have a combined 15 years experience in elevating athletic performance and will provide your young athlete with the tools and resources needed to be successful on and off the field. Registered dietian athlete nutrition & education plan complimentary to all athletes in program to assist in building lean muscle tissue\, improving performance and recovery. Group\, team\, and 1:1 training available.
X-ALT-DESC;FMTTYPE=text/html:For Student Athletes age 10+ looking to take their game to the next level\, make the team\, compete in college\, prevent injury\, improve coordination\, strength\, speed &amp\; agility. Whether they are in season or pre season\, our former DII All American &amp\; scholarship trainers have a combined 15 years experience in elevating athletic performance and will provide your young athlete with the tools and resources needed to be successful on and off the field. Registered dietian athlete nutrition &amp\; education plan complimentary to all athletes in program to assist in building lean muscle tissue\, improving performance and recovery. Group\, team\, and 1:1 training available.
LOCATION:Fitness Fusion 21 Glenn Pond Drive Red Hook NY 12571
UID:e.2770.10479680
SEQUENCE:3
DTSTAMP:20260425T131444Z
URL:https://business.dcrcoc.org/events/details/fitness-fusion-student-athlete-training-10479680
END:VEVENT

END:VCALENDAR
