BEGIN:VCALENDAR
VERSION:2.0
PRODID:-//ChamberMaster//Event Calendar 2.0//EN
METHOD:PUBLISH
X-PUBLISHED-TTL:P3D
REFRESH-INTERVAL:P3D
CALSCALE:GREGORIAN
BEGIN:VEVENT
DTSTART:20190428T000000Z
DTEND:20190428T213000Z
X-MICROSOFT-CDO-ALLDAYEVENT:FALSE
SUMMARY:FIVE by FIVE - Camerata Chorale Spring Concert
DESCRIPTION:FIVE by FIVE - A Concert of American Composers.   A unique offering of five pieces by five American composers - Samuel Barber\, Jean Berger\, Norman Dello Joio\, Alan Hovahness and Randall Thompson.  \n\n\n\nLee H. Pritchard - Artistic Director\;  Gary Palmieri - Accompanist\n\n\n\nGeneral Admission\, $15  Advanced and Seniors $12  Students $5
X-ALT-DESC;FMTTYPE=text/html:FIVE by FIVE - A Concert of American Composers.&nbsp\;&nbsp\; A unique offering of five pieces by five American composers - Samuel Barber\, Jean Berger\, Norman Dello Joio\, Alan Hovahness and Randall Thompson. &nbsp\;<br />\n<br />\nLee H. Pritchard - Artistic Director\;&nbsp\; Gary Palmieri - Accompanist<br />\n<br />\nGeneral Admission\, $15&nbsp\; Advanced and Seniors $12&nbsp\; Students $5
LOCATION:The Poughkeepsie Reformed Church Saturday 4/27/19 @ 8:00 p.m. 70 Hooker Ave. Poughkeepsie NY 12601 New Paltz United Methodist Church Sunday 4/28/19 @ 4:00 p.m. 1 Grove St. New Paltz NY 12561
UID:e.2770.10480711
SEQUENCE:3
DTSTAMP:20260423T062546Z
URL:https://business.dcrcoc.org/events/details/five-by-five-camerata-chorale-spring-concert-10480711
END:VEVENT

END:VCALENDAR
